BEGIN:VCALENDAR
VERSION:2.0
PRODID:icalendar-ruby
CALSCALE:GREGORIAN
METHOD:PUBLISH
BEGIN:VEVENT
DTSTAMP:20260423T015130Z
UID:event-22413-2026-04-28T19:00:00+02:00-none
DTSTART;TZID=Europe/Madrid:20260428T190000
DESCRIPTION:El catálogo que ahora se presenta\, editado por la Consejería
  de Cultura\, Turismo y Deporte en colaboración con R&R ediciones\, reún
 e una cuidada selección de las obras pictóricas expuestas. 
SUMMARY:Presentación del catálogo de la exposición "Luis Polo Martínez-
 Conde (1884-1941). Crónica viva de la bahía de Santander en los albores 
 del siglo XX"
END:VEVENT
END:VCALENDAR
