BEGIN:VCALENDAR
VERSION:2.0
PRODID:icalendar-ruby
CALSCALE:GREGORIAN
METHOD:PUBLISH
BEGIN:VEVENT
DTSTAMP:20260423T034141Z
UID:event-22416-2026-04-24T18:30:00+02:00-none
DTSTART;TZID=Europe/Madrid:20260424T183000
DESCRIPTION:Una crítica en contra de los falsos intelectuales y los person
 ajes jactanciosos\, llenos de afectación y engreimiento  que alcanzan con
  facilidad un falso prestigio.
SUMMARY:II Ciclo de teatro en Centros Cívicos: "Las mujeres sabias"
END:VEVENT
END:VCALENDAR
