BEGIN:VCALENDAR
VERSION:2.0
PRODID:icalendar-ruby
CALSCALE:GREGORIAN
METHOD:PUBLISH
BEGIN:VEVENT
DTSTAMP:20260423T034200Z
UID:event-22420-2026-06-12T19:00:00+02:00-none
DTSTART;TZID=Europe/Madrid:20260612T190000
DESCRIPTION:Santander celebrará del 24 de abril al 19 de junio el II ciclo
  de teatro de los centros cívicos con el protagonismo de vecinos\, profes
 ores y alumnado.
SUMMARY:II Ciclo de teatro en Centros Cívicos: "Tres sombreros de copa"
END:VEVENT
END:VCALENDAR
