BEGIN:VCALENDAR
VERSION:2.0
PRODID:icalendar-ruby
CALSCALE:GREGORIAN
METHOD:PUBLISH
BEGIN:VEVENT
DTSTAMP:20260423T021241Z
UID:event-22422-2026-04-30T17:15:00+02:00-none
DTSTART;TZID=Europe/Madrid:20260430T171500
DESCRIPTION:Sigue la lucha de Miranda Priestly contra Emily Charlton\, su e
 x asistente convertida en ejecutiva rival\, mientras compiten por los ingr
 esos por publicidad en medio de la decadencia de los medios impresos y Mir
 anda se acerca a la jubilación.
SUMMARY:"El diablo viste de Prada 2"\, de David Frenkel
END:VEVENT
BEGIN:VEVENT
DTSTAMP:20260423T021241Z
UID:event-22422-2026-04-30T20:00:00+02:00-none
DTSTART;TZID=Europe/Madrid:20260430T200000
DESCRIPTION:Sigue la lucha de Miranda Priestly contra Emily Charlton\, su e
 x asistente convertida en ejecutiva rival\, mientras compiten por los ingr
 esos por publicidad en medio de la decadencia de los medios impresos y Mir
 anda se acerca a la jubilación.
SUMMARY:"El diablo viste de Prada 2"\, de David Frenkel
END:VEVENT
END:VCALENDAR
