BEGIN:VCALENDAR
VERSION:2.0
PRODID:icalendar-ruby
CALSCALE:GREGORIAN
METHOD:PUBLISH
BEGIN:VEVENT
DTSTAMP:20260423T021352Z
UID:event-22424-2026-04-24T20:15:00+02:00-none
DTSTART;TZID=Europe/Madrid:20260424T201500
DESCRIPTION:La obsesión de Óscar Restrepo por la poesía no le ha reporta
 do ninguna gloria. Envejecido y errático\, ha sucumbido al tópico del po
 eta en la sombra. 
SUMMARY:"Un poeta"\, dirigida por Simón Mesa Soto
END:VEVENT
BEGIN:VEVENT
DTSTAMP:20260423T021352Z
UID:event-22424-2026-04-25T20:15:00+02:00-none
DTSTART;TZID=Europe/Madrid:20260425T201500
DESCRIPTION:La obsesión de Óscar Restrepo por la poesía no le ha reporta
 do ninguna gloria. Envejecido y errático\, ha sucumbido al tópico del po
 eta en la sombra. 
SUMMARY:"Un poeta"\, dirigida por Simón Mesa Soto
END:VEVENT
BEGIN:VEVENT
DTSTAMP:20260423T021352Z
UID:event-22424-2026-04-26T18:00:00+02:00-none
DTSTART;TZID=Europe/Madrid:20260426T180000
DESCRIPTION:La obsesión de Óscar Restrepo por la poesía no le ha reporta
 do ninguna gloria. Envejecido y errático\, ha sucumbido al tópico del po
 eta en la sombra. 
SUMMARY:"Un poeta"\, dirigida por Simón Mesa Soto
END:VEVENT
BEGIN:VEVENT
DTSTAMP:20260423T021352Z
UID:event-22424-2026-04-27T19:30:00+02:00-none
DTSTART;TZID=Europe/Madrid:20260427T193000
DESCRIPTION:La obsesión de Óscar Restrepo por la poesía no le ha reporta
 do ninguna gloria. Envejecido y errático\, ha sucumbido al tópico del po
 eta en la sombra. 
SUMMARY:"Un poeta"\, dirigida por Simón Mesa Soto
END:VEVENT
BEGIN:VEVENT
DTSTAMP:20260423T021352Z
UID:event-22424-2026-04-28T17:45:00+02:00-none
DTSTART;TZID=Europe/Madrid:20260428T174500
DESCRIPTION:La obsesión de Óscar Restrepo por la poesía no le ha reporta
 do ninguna gloria. Envejecido y errático\, ha sucumbido al tópico del po
 eta en la sombra. 
SUMMARY:"Un poeta"\, dirigida por Simón Mesa Soto
END:VEVENT
BEGIN:VEVENT
DTSTAMP:20260423T021352Z
UID:event-22424-2026-04-29T20:15:00+02:00-none
DTSTART;TZID=Europe/Madrid:20260429T201500
DESCRIPTION:La obsesión de Óscar Restrepo por la poesía no le ha reporta
 do ninguna gloria. Envejecido y errático\, ha sucumbido al tópico del po
 eta en la sombra. 
SUMMARY:"Un poeta"\, dirigida por Simón Mesa Soto
END:VEVENT
BEGIN:VEVENT
DTSTAMP:20260423T021352Z
UID:event-22424-2026-04-30T17:45:00+02:00-none
DTSTART;TZID=Europe/Madrid:20260430T174500
DESCRIPTION:La obsesión de Óscar Restrepo por la poesía no le ha reporta
 do ninguna gloria. Envejecido y errático\, ha sucumbido al tópico del po
 eta en la sombra. 
SUMMARY:"Un poeta"\, dirigida por Simón Mesa Soto
END:VEVENT
END:VCALENDAR
