BEGIN:VCALENDAR
VERSION:2.0
PRODID:icalendar-ruby
CALSCALE:GREGORIAN
METHOD:PUBLISH
BEGIN:VEVENT
DTSTAMP:20260423T021249Z
UID:event-22425-2026-04-25T16:00:00+02:00-none
DTSTART;TZID=Europe/Madrid:20260425T160000
DESCRIPTION:Desde la ayuda a los más pobres de Madrid\, pasando por jóven
 es que encuentran sentido en la fe\, una artista que anuncia el amor de Di
 os con su música\, un sacerdote que halla luz tras la adversidad y un hom
 bre que reconstruye su vida.
SUMMARY:"Esperanza viva"\, de Marcel Montealegre Talero
END:VEVENT
BEGIN:VEVENT
DTSTAMP:20260423T021249Z
UID:event-22425-2026-04-26T16:00:00+02:00-none
DTSTART;TZID=Europe/Madrid:20260426T160000
DESCRIPTION:Desde la ayuda a los más pobres de Madrid\, pasando por jóven
 es que encuentran sentido en la fe\, una artista que anuncia el amor de Di
 os con su música\, un sacerdote que halla luz tras la adversidad y un hom
 bre que reconstruye su vida.
SUMMARY:"Esperanza viva"\, de Marcel Montealegre Talero
END:VEVENT
BEGIN:VEVENT
DTSTAMP:20260423T021249Z
UID:event-22425-2026-04-27T20:00:00+02:00-none
DTSTART;TZID=Europe/Madrid:20260427T200000
DESCRIPTION:Desde la ayuda a los más pobres de Madrid\, pasando por jóven
 es que encuentran sentido en la fe\, una artista que anuncia el amor de Di
 os con su música\, un sacerdote que halla luz tras la adversidad y un hom
 bre que reconstruye su vida.
SUMMARY:"Esperanza viva"\, de Marcel Montealegre Talero
END:VEVENT
BEGIN:VEVENT
DTSTAMP:20260423T021249Z
UID:event-22425-2026-04-29T18:30:00+02:00-none
DTSTART;TZID=Europe/Madrid:20260429T183000
DESCRIPTION:Desde la ayuda a los más pobres de Madrid\, pasando por jóven
 es que encuentran sentido en la fe\, una artista que anuncia el amor de Di
 os con su música\, un sacerdote que halla luz tras la adversidad y un hom
 bre que reconstruye su vida.
SUMMARY:"Esperanza viva"\, de Marcel Montealegre Talero
END:VEVENT
END:VCALENDAR
