BEGIN:VCALENDAR
VERSION:2.0
PRODID:icalendar-ruby
CALSCALE:GREGORIAN
METHOD:PUBLISH
BEGIN:VEVENT
DTSTAMP:20260423T021247Z
UID:event-22426-2026-04-27T17:30:00+02:00-none
DTSTART;TZID=Europe/Madrid:20260427T173000
DESCRIPTION:El maestro renacentista Botticelli pasó más de una década pi
 ntando y dibujando el «Infierno» tal como lo describió el poeta Dante. 
 Sin embargo\, uno de sus dibujos más íntimo y misterioso estuvo escondid
 o en las bóvedas del Vaticano.
SUMMARY:Embajadores del arte: "Botticelli Inferno"
END:VEVENT
END:VCALENDAR
