BEGIN:VCALENDAR
VERSION:2.0
PRODID:icalendar-ruby
CALSCALE:GREGORIAN
METHOD:PUBLISH
BEGIN:VEVENT
DTSTAMP:20260423T021247Z
UID:event-22427-2026-04-29T20:00:00+02:00-none
DTSTART;TZID=Europe/Madrid:20260429T200000
DESCRIPTION:Un documental sobre el Nobel aragonés que explora desde una mi
 rada presente su fascinación por las imágenes como vector entre la reali
 dad del mundo físico y la creada en el cerebro\, con un nuevo enfoque int
 egrador.
SUMMARY:"Ramón y Cajal: Dibujos en la retina"\, documental de Luis Gómez 
 Juanes
END:VEVENT
END:VCALENDAR
