BEGIN:VCALENDAR
VERSION:2.0
PRODID:icalendar-ruby
CALSCALE:GREGORIAN
METHOD:PUBLISH
BEGIN:VEVENT
DTSTAMP:20260423T015254Z
UID:event-22430-2026-05-22T19:00:00+02:00-none
DTSTART;TZID=Europe/Madrid:20260522T190000
DESCRIPTION:Rinde homenaje al mundo de la poesía en general\, a la poesía
  futurista de principios del siglo pasado en concreto\, y\, sobre todo\, e
 specialmente\, a uno de los poetas más grandes y olvidados de la tierra: 
 el georgiano Vladimir Maiakovski.
SUMMARY:Presentación del libro “Poeta”\, de Javier del Sastre
END:VEVENT
END:VCALENDAR
