BEGIN:VCALENDAR
VERSION:2.0
PRODID:icalendar-ruby
CALSCALE:GREGORIAN
METHOD:PUBLISH
BEGIN:VEVENT
DTSTAMP:20260425T123521Z
UID:event-22432-2026-04-25T12:00:00+02:00-none
DTSTART;TZID=Europe/Madrid:20260425T120000
DESCRIPTION:Esta charla nos invita a cuestionar el canon y a repensar qué 
 entendemos por arte\, poniendo en el centro aquello que durante mucho tiem
 po quedó fuera.
SUMMARY:Clausura de la exposición “Sus Labores” con una charla de Mart
 a Mantecón
END:VEVENT
END:VCALENDAR
