BEGIN:VCALENDAR
VERSION:2.0
PRODID:icalendar-ruby
CALSCALE:GREGORIAN
METHOD:PUBLISH
BEGIN:VEVENT
DTSTAMP:20260423T004113Z
UID:event-22434-2026-04-22T18:30:00+02:00-none
DTSTART;TZID=Europe/Madrid:20260422T183000
DESCRIPTION:Este miércoles tienes una cita muy especial con ‘El misterio
  de la cripta embrujada’ de Eduardo Mendoza. Ve a disfrutar de una tertu
 lia abierta de la mano del Club de Lectura de La Ortiga Colectiva en colab
 oración con La Escuela de la Bahía
SUMMARY:Tertulia abierta en torno a "El misterio de la cripta embrujada" de
  Eduardo Mendoza
END:VEVENT
END:VCALENDAR
