BEGIN:VCALENDAR
VERSION:2.0
PRODID:icalendar-ruby
CALSCALE:GREGORIAN
METHOD:PUBLISH
BEGIN:VEVENT
DTSTAMP:20260425T140510Z
UID:event-22443-2026-04-29T16:00:00+02:00-2026-04-29T21:00:00+02:00
DTSTART;TZID=Europe/Madrid:20260429T160000
DTEND;TZID=Europe/Madrid:20260429T210000
DESCRIPTION:Movimiento en Red y La Fábrica de Creación celebran el Día I
 nternacional de la Danza en Santander.
SUMMARY:Maratón de Danza en el Día Internacional de la Danza
END:VEVENT
END:VCALENDAR
