BEGIN:VCALENDAR
VERSION:2.0
PRODID:icalendar-ruby
CALSCALE:GREGORIAN
METHOD:PUBLISH
BEGIN:VEVENT
DTSTAMP:20260425T140519Z
UID:event-22444-2026-04-29T19:00:00+02:00-none
DTSTART;TZID=Europe/Madrid:20260429T190000
DESCRIPTION:Ese día\, a las 19h tendrá lugar la presentación de la publi
 cación de REDE “Hacia unas buenas prácticas de danza en la escuela”\
 , a cargo de Alicia Gómez Linares.
SUMMARY:Presentación de la publicación de REDE con Alicia Gómez Linares
END:VEVENT
END:VCALENDAR
