BEGIN:VCALENDAR
VERSION:2.0
PRODID:icalendar-ruby
CALSCALE:GREGORIAN
METHOD:PUBLISH
BEGIN:VEVENT
DTSTAMP:20260425T024920Z
UID:event-22453-2026-05-28T19:00:00+02:00-none
DTSTART;TZID=Europe/Madrid:20260528T190000
DESCRIPTION:Pilar Otí lleva casi cuatro décadas mirando el mundo a travé
 s de una cámara\; 40 años de fotografía y 32 como profesional dan para 
 mucho: para cambiar\, para dudar\, para reinventarse y\, sobre todo\, para
  seguir teniendo curiosidad.
SUMMARY:"El viaje: cartografía de una mirada". Photoencuentro con Pilar Ot
 í 
END:VEVENT
END:VCALENDAR
