BEGIN:VCALENDAR
VERSION:2.0
PRODID:icalendar-ruby
CALSCALE:GREGORIAN
METHOD:PUBLISH
BEGIN:VEVENT
DTSTAMP:20260425T154527Z
UID:event-22455-2026-05-02T20:30:00+02:00-none
DTSTART;TZID=Europe/Madrid:20260502T203000
DESCRIPTION:A lo largo de su carrera ha sido muy reconocido por su «manche
 guismo»\, y si bien su amor por la región es intocable\, no deja de crec
 er e innovar\, brindando hoy un show completamente nuevo y diferente.
SUMMARY:Show de Monólogos de Juanjo Albiñana y Valak
END:VEVENT
END:VCALENDAR
