BEGIN:VCALENDAR
VERSION:2.0
PRODID:icalendar-ruby
CALSCALE:GREGORIAN
METHOD:PUBLISH
BEGIN:VEVENT
DTSTAMP:20260425T140551Z
UID:event-22456-2026-05-16T19:00:00+02:00-none
DTSTART;TZID=Europe/Madrid:20260516T190000
DESCRIPTION:Lutum es un viaje íntimo y brutal a los rincones más oscuros 
 de la memoria corporal. A través de circo y objetos simbólicos\, explora
  un territorio donde la vulnerabilidad y el deseo se fusionan.
SUMMARY:"Lutum"\, muestra de residencia de Arrel Guevara
END:VEVENT
END:VCALENDAR
