BEGIN:VCALENDAR
VERSION:2.0
PRODID:icalendar-ruby
CALSCALE:GREGORIAN
METHOD:PUBLISH
BEGIN:VEVENT
DTSTAMP:20260425T160339Z
UID:event-2291-2026-01-05T21:15:00+01:00-none
DTSTART;TZID=Europe/Madrid:20260105T211500
DESCRIPTION:El Café/Bar Bolero vuelve a dar cabida a los boleros\, habaner
 as y poesías de los lunes prohibidos.
SUMMARY:Lunes del Bolero Prohibido
END:VEVENT
BEGIN:VEVENT
DTSTAMP:20260425T160340Z
UID:event-2291-2026-01-12T21:15:00+01:00-none
DTSTART;TZID=Europe/Madrid:20260112T211500
DESCRIPTION:El Café/Bar Bolero vuelve a dar cabida a los boleros\, habaner
 as y poesías de los lunes prohibidos.
SUMMARY:Lunes del Bolero Prohibido
END:VEVENT
BEGIN:VEVENT
DTSTAMP:20260425T160340Z
UID:event-2291-2026-01-19T21:15:00+01:00-none
DTSTART;TZID=Europe/Madrid:20260119T211500
DESCRIPTION:El Café/Bar Bolero vuelve a dar cabida a los boleros\, habaner
 as y poesías de los lunes prohibidos.
SUMMARY:Lunes del Bolero Prohibido
END:VEVENT
BEGIN:VEVENT
DTSTAMP:20260425T160340Z
UID:event-2291-2026-01-26T21:15:00+01:00-none
DTSTART;TZID=Europe/Madrid:20260126T211500
DESCRIPTION:El Café/Bar Bolero vuelve a dar cabida a los boleros\, habaner
 as y poesías de los lunes prohibidos.
SUMMARY:Lunes del Bolero Prohibido
END:VEVENT
BEGIN:VEVENT
DTSTAMP:20260425T160340Z
UID:event-2291-2026-02-02T21:15:00+01:00-none
DTSTART;TZID=Europe/Madrid:20260202T211500
DESCRIPTION:El Café/Bar Bolero vuelve a dar cabida a los boleros\, habaner
 as y poesías de los lunes prohibidos.
SUMMARY:Lunes del Bolero Prohibido
END:VEVENT
BEGIN:VEVENT
DTSTAMP:20260425T160340Z
UID:event-2291-2026-02-09T21:15:00+01:00-none
DTSTART;TZID=Europe/Madrid:20260209T211500
DESCRIPTION:El Café/Bar Bolero vuelve a dar cabida a los boleros\, habaner
 as y poesías de los lunes prohibidos.
SUMMARY:Lunes del Bolero Prohibido
END:VEVENT
BEGIN:VEVENT
DTSTAMP:20260425T160340Z
UID:event-2291-2026-02-16T21:15:00+01:00-none
DTSTART;TZID=Europe/Madrid:20260216T211500
DESCRIPTION:El Café/Bar Bolero vuelve a dar cabida a los boleros\, habaner
 as y poesías de los lunes prohibidos.
SUMMARY:Lunes del Bolero Prohibido
END:VEVENT
BEGIN:VEVENT
DTSTAMP:20260425T160340Z
UID:event-2291-2026-02-23T21:15:00+01:00-none
DTSTART;TZID=Europe/Madrid:20260223T211500
DESCRIPTION:El Café/Bar Bolero vuelve a dar cabida a los boleros\, habaner
 as y poesías de los lunes prohibidos.
SUMMARY:Lunes del Bolero Prohibido
END:VEVENT
BEGIN:VEVENT
DTSTAMP:20260425T160340Z
UID:event-2291-2026-03-02T21:15:00+01:00-none
DTSTART;TZID=Europe/Madrid:20260302T211500
DESCRIPTION:El Café/Bar Bolero vuelve a dar cabida a los boleros\, habaner
 as y poesías de los lunes prohibidos.
SUMMARY:Lunes del Bolero Prohibido
END:VEVENT
BEGIN:VEVENT
DTSTAMP:20260425T160340Z
UID:event-2291-2026-03-09T21:15:00+01:00-none
DTSTART;TZID=Europe/Madrid:20260309T211500
DESCRIPTION:El Café/Bar Bolero vuelve a dar cabida a los boleros\, habaner
 as y poesías de los lunes prohibidos.
SUMMARY:Lunes del Bolero Prohibido
END:VEVENT
BEGIN:VEVENT
DTSTAMP:20260425T160340Z
UID:event-2291-2026-03-16T21:15:00+01:00-none
DTSTART;TZID=Europe/Madrid:20260316T211500
DESCRIPTION:El Café/Bar Bolero vuelve a dar cabida a los boleros\, habaner
 as y poesías de los lunes prohibidos.
SUMMARY:Lunes del Bolero Prohibido
END:VEVENT
BEGIN:VEVENT
DTSTAMP:20260425T160340Z
UID:event-2291-2026-03-23T21:15:00+01:00-none
DTSTART;TZID=Europe/Madrid:20260323T211500
DESCRIPTION:El Café/Bar Bolero vuelve a dar cabida a los boleros\, habaner
 as y poesías de los lunes prohibidos.
SUMMARY:Lunes del Bolero Prohibido
END:VEVENT
BEGIN:VEVENT
DTSTAMP:20260425T160340Z
UID:event-2291-2026-03-30T21:15:00+02:00-none
DTSTART;TZID=Europe/Madrid:20260330T211500
DESCRIPTION:El Café/Bar Bolero vuelve a dar cabida a los boleros\, habaner
 as y poesías de los lunes prohibidos.
SUMMARY:Lunes del Bolero Prohibido
END:VEVENT
BEGIN:VEVENT
DTSTAMP:20260425T160340Z
UID:event-2291-2026-04-06T21:15:00+02:00-none
DTSTART;TZID=Europe/Madrid:20260406T211500
DESCRIPTION:El Café/Bar Bolero vuelve a dar cabida a los boleros\, habaner
 as y poesías de los lunes prohibidos.
SUMMARY:Lunes del Bolero Prohibido
END:VEVENT
BEGIN:VEVENT
DTSTAMP:20260425T160340Z
UID:event-2291-2026-04-13T21:15:00+02:00-none
DTSTART;TZID=Europe/Madrid:20260413T211500
DESCRIPTION:El Café/Bar Bolero vuelve a dar cabida a los boleros\, habaner
 as y poesías de los lunes prohibidos.
SUMMARY:Lunes del Bolero Prohibido
END:VEVENT
BEGIN:VEVENT
DTSTAMP:20260425T160340Z
UID:event-2291-2026-04-20T21:15:00+02:00-none
DTSTART;TZID=Europe/Madrid:20260420T211500
DESCRIPTION:El Café/Bar Bolero vuelve a dar cabida a los boleros\, habaner
 as y poesías de los lunes prohibidos.
SUMMARY:Lunes del Bolero Prohibido
END:VEVENT
BEGIN:VEVENT
DTSTAMP:20260425T160340Z
UID:event-2291-2026-04-27T21:15:00+02:00-none
DTSTART;TZID=Europe/Madrid:20260427T211500
DESCRIPTION:El Café/Bar Bolero vuelve a dar cabida a los boleros\, habaner
 as y poesías de los lunes prohibidos.
SUMMARY:Lunes del Bolero Prohibido
END:VEVENT
BEGIN:VEVENT
DTSTAMP:20260425T160340Z
UID:event-2291-2026-05-04T21:15:00+02:00-none
DTSTART;TZID=Europe/Madrid:20260504T211500
DESCRIPTION:El Café/Bar Bolero vuelve a dar cabida a los boleros\, habaner
 as y poesías de los lunes prohibidos.
SUMMARY:Lunes del Bolero Prohibido
END:VEVENT
BEGIN:VEVENT
DTSTAMP:20260425T160340Z
UID:event-2291-2026-05-11T21:15:00+02:00-none
DTSTART;TZID=Europe/Madrid:20260511T211500
DESCRIPTION:El Café/Bar Bolero vuelve a dar cabida a los boleros\, habaner
 as y poesías de los lunes prohibidos.
SUMMARY:Lunes del Bolero Prohibido
END:VEVENT
BEGIN:VEVENT
DTSTAMP:20260425T160340Z
UID:event-2291-2026-05-18T21:15:00+02:00-none
DTSTART;TZID=Europe/Madrid:20260518T211500
DESCRIPTION:El Café/Bar Bolero vuelve a dar cabida a los boleros\, habaner
 as y poesías de los lunes prohibidos.
SUMMARY:Lunes del Bolero Prohibido
END:VEVENT
BEGIN:VEVENT
DTSTAMP:20260425T160340Z
UID:event-2291-2026-05-25T21:15:00+02:00-none
DTSTART;TZID=Europe/Madrid:20260525T211500
DESCRIPTION:El Café/Bar Bolero vuelve a dar cabida a los boleros\, habaner
 as y poesías de los lunes prohibidos.
SUMMARY:Lunes del Bolero Prohibido
END:VEVENT
END:VCALENDAR
