BEGIN:VCALENDAR
VERSION:2.0
PRODID:icalendar-ruby
CALSCALE:GREGORIAN
METHOD:PUBLISH
BEGIN:VEVENT
DTSTAMP:20260423T084753Z
UID:event-4531-2023-01-25T19:30:00+01:00-none
DTSTART;TZID=Europe/Madrid:20230125T193000
DESCRIPTION:Ildefonso Falcones llega al Aula de Cultura de El Diario Monta
 ñés para presentar su última novela\, “Esclava de la libertad”. Una
  historia fascinante que narra la apasionada lucha por la libertad de dos 
 mujeres negras en épocas distintas.
SUMMARY:Ildefonso Falcones presenta su última novela\, "Esclava de la libe
 rtad"
END:VEVENT
END:VCALENDAR
