BEGIN:VCALENDAR
VERSION:2.0
PRODID:icalendar-ruby
CALSCALE:GREGORIAN
METHOD:PUBLISH
BEGIN:VEVENT
DTSTAMP:20260423T084753Z
UID:event-4651-2023-01-25T20:00:00+01:00-none
DTSTART;TZID=Europe/Madrid:20230125T200000
DESCRIPTION:El miércoles 25 de enero empiezan en La Libre los encuentros d
 el club de lectura de este 2023. El libro elegido para la ocasión es “L
 os armarios vacíos”\, de la escritora Annie Ernaux\, premio Nobel de Li
 teratura en 2022 .
SUMMARY:Reunión del Club de Lectura de La Libre en torno al libro "Los arm
 arios vacíos"
END:VEVENT
END:VCALENDAR
