BEGIN:VCALENDAR
VERSION:2.0
PRODID:icalendar-ruby
CALSCALE:GREGORIAN
METHOD:PUBLISH
BEGIN:VEVENT
DTSTAMP:20260423T145334Z
UID:event-4689-2023-01-20T16:15:00+01:00-none
DTSTART;TZID=Europe/Madrid:20230120T161500
DESCRIPTION:Irán\, 2001. Una periodista de Teherán se sumerge en los barr
 ios con peor reputación de la ciudad santa de Mashhad para investigar una
  serie de feminicidios. Pronto se dará cuenta de que las autoridades loca
 les no tienen ninguna prisa.
SUMMARY:"Holy Spider (Araña sagrada)"\, de Ali Abbasi (V.O.S.)
END:VEVENT
BEGIN:VEVENT
DTSTAMP:20260423T145334Z
UID:event-4689-2023-01-21T16:15:00+01:00-none
DTSTART;TZID=Europe/Madrid:20230121T161500
DESCRIPTION:Irán\, 2001. Una periodista de Teherán se sumerge en los barr
 ios con peor reputación de la ciudad santa de Mashhad para investigar una
  serie de feminicidios. Pronto se dará cuenta de que las autoridades loca
 les no tienen ninguna prisa.
SUMMARY:"Holy Spider (Araña sagrada)"\, de Ali Abbasi (V.O.S.)
END:VEVENT
BEGIN:VEVENT
DTSTAMP:20260423T145334Z
UID:event-4689-2023-01-22T16:15:00+01:00-none
DTSTART;TZID=Europe/Madrid:20230122T161500
DESCRIPTION:Irán\, 2001. Una periodista de Teherán se sumerge en los barr
 ios con peor reputación de la ciudad santa de Mashhad para investigar una
  serie de feminicidios. Pronto se dará cuenta de que las autoridades loca
 les no tienen ninguna prisa.
SUMMARY:"Holy Spider (Araña sagrada)"\, de Ali Abbasi (V.O.S.)
END:VEVENT
BEGIN:VEVENT
DTSTAMP:20260423T145334Z
UID:event-4689-2023-01-23T16:15:00+01:00-none
DTSTART;TZID=Europe/Madrid:20230123T161500
DESCRIPTION:Irán\, 2001. Una periodista de Teherán se sumerge en los barr
 ios con peor reputación de la ciudad santa de Mashhad para investigar una
  serie de feminicidios. Pronto se dará cuenta de que las autoridades loca
 les no tienen ninguna prisa.
SUMMARY:"Holy Spider (Araña sagrada)"\, de Ali Abbasi (V.O.S.)
END:VEVENT
BEGIN:VEVENT
DTSTAMP:20260423T145334Z
UID:event-4689-2023-01-24T16:15:00+01:00-none
DTSTART;TZID=Europe/Madrid:20230124T161500
DESCRIPTION:Irán\, 2001. Una periodista de Teherán se sumerge en los barr
 ios con peor reputación de la ciudad santa de Mashhad para investigar una
  serie de feminicidios. Pronto se dará cuenta de que las autoridades loca
 les no tienen ninguna prisa.
SUMMARY:"Holy Spider (Araña sagrada)"\, de Ali Abbasi (V.O.S.)
END:VEVENT
BEGIN:VEVENT
DTSTAMP:20260423T145334Z
UID:event-4689-2023-01-25T16:15:00+01:00-none
DTSTART;TZID=Europe/Madrid:20230125T161500
DESCRIPTION:Irán\, 2001. Una periodista de Teherán se sumerge en los barr
 ios con peor reputación de la ciudad santa de Mashhad para investigar una
  serie de feminicidios. Pronto se dará cuenta de que las autoridades loca
 les no tienen ninguna prisa.
SUMMARY:"Holy Spider (Araña sagrada)"\, de Ali Abbasi (V.O.S.)
END:VEVENT
BEGIN:VEVENT
DTSTAMP:20260423T145334Z
UID:event-4689-2023-01-26T16:15:00+01:00-none
DTSTART;TZID=Europe/Madrid:20230126T161500
DESCRIPTION:Irán\, 2001. Una periodista de Teherán se sumerge en los barr
 ios con peor reputación de la ciudad santa de Mashhad para investigar una
  serie de feminicidios. Pronto se dará cuenta de que las autoridades loca
 les no tienen ninguna prisa.
SUMMARY:"Holy Spider (Araña sagrada)"\, de Ali Abbasi (V.O.S.)
END:VEVENT
END:VCALENDAR
