BEGIN:VCALENDAR
VERSION:2.0
PRODID:icalendar-ruby
CALSCALE:GREGORIAN
METHOD:PUBLISH
BEGIN:VEVENT
DTSTAMP:20260423T102115Z
UID:event-4747-2023-01-25T20:30:00+01:00-none
DTSTART;TZID=Europe/Madrid:20230125T203000
DESCRIPTION:“Conocer la Psiquiatría para poder aceptarla” es el títul
 o de la charla que tendrá lugar el miércoles 25 de enero\, a partir de l
 as 20:30 horas\, en el Hotel Bahía (Salón Laredo) de Santander.
SUMMARY:Jesús Artal protagonista del "Reencuentro con…" de CIPSA
END:VEVENT
END:VCALENDAR
