BEGIN:VCALENDAR
VERSION:2.0
PRODID:icalendar-ruby
CALSCALE:GREGORIAN
METHOD:PUBLISH
BEGIN:VEVENT
DTSTAMP:20260423T095231Z
UID:event-16015-2025-04-16T19:30:00+02:00-none
DTSTART;TZID=Europe/Madrid:20250416T193000
DESCRIPTION:Roberto Pérez Trespalacios\, coleccionista e investigador de l
 as culturas precolombinas ha centrado su pasión en el estudio de las cult
 uras precolombinas desde hace más de 25 años.
SUMMARY:"Alma de América: Arte y Cosmovisión Precolombina en la Colecció
 n Pérez Trespalacios"\, por Roberto Pérez Trespalacios
END:VEVENT
END:VCALENDAR
