BEGIN:VCALENDAR
VERSION:2.0
PRODID:icalendar-ruby
CALSCALE:GREGORIAN
METHOD:PUBLISH
BEGIN:VEVENT
DTSTAMP:20260420T160912Z
UID:event-20587-2026-10-30T19:00:00+01:00-none
DTSTART;TZID=Europe/Madrid:20261030T190000
DESCRIPTION:El 30 de octubre el ciclo recibe a Álvaro Fernández y Puri D
 íaz. Son una pareja artística dedicada al folclore tradicional\, tonadas
  montañesas\, coplas y romances.
SUMMARY:Álvaro Fernández y Puri Díaz en el ciclo "Folclore en todas las 
 estaciones"
END:VEVENT
END:VCALENDAR
