BEGIN:VCALENDAR
VERSION:2.0
PRODID:icalendar-ruby
CALSCALE:GREGORIAN
METHOD:PUBLISH
BEGIN:VEVENT
DTSTAMP:20260422T045803Z
UID:event-22370-2026-05-10T20:30:00+02:00-none
DTSTART;TZID=Europe/Madrid:20260510T203000
DESCRIPTION:La banda se encuentra actualmente presentando su primera gira p
 or España\, promocionando los singles de su próximo álbum debut. 
SUMMARY:And The Sunset Burns. Spanish Tour
END:VEVENT
END:VCALENDAR
