BEGIN:VCALENDAR
VERSION:2.0
PRODID:icalendar-ruby
CALSCALE:GREGORIAN
METHOD:PUBLISH
BEGIN:VEVENT
DTSTAMP:20260423T174134Z
UID:event-22301-2026-07-19T17:00:00+02:00-none
DTSTART;TZID=Europe/Madrid:20260719T170000
DESCRIPTION:Bahía Sun Festival es el primer tardeo en la bahía convertido
  en festival. El cartel incluye nombres como Nervo\, Bresh\, Ovy on the Dr
 ums\, Juan Valiente\, Hidalgo\, Rubens Vives\, Mario Gilss\, Pablo de Luca
 s\, Hache y Daviz Garzia.
SUMMARY:Bahía Sun Festival
END:VEVENT
END:VCALENDAR
