BEGIN:VCALENDAR
VERSION:2.0
PRODID:icalendar-ruby
CALSCALE:GREGORIAN
METHOD:PUBLISH
BEGIN:VEVENT
DTSTAMP:20260420T172244Z
UID:event-21214-2027-01-22T20:30:00+01:00-none
DTSTART;TZID=Europe/Madrid:20270122T203000
DESCRIPTION:El rugido de la Stratocaster más famosa del rock vuelve a reso
 nar. El próximo 22 de enero de 2027\, Escenario Santander se convierte en
  el epicentro del blues-rock con el regreso de Band of Friends.
SUMMARY:Band of Friends. A celebration of Rory Gallagher
END:VEVENT
END:VCALENDAR
