BEGIN:VCALENDAR
VERSION:2.0
PRODID:icalendar-ruby
CALSCALE:GREGORIAN
METHOD:PUBLISH
BEGIN:VEVENT
DTSTAMP:20260423T121721Z
UID:event-11872-2024-07-04T17:00:00+02:00-2024-07-04T22:00:00+02:00
DTSTART;TZID=Europe/Madrid:20240704T170000
DTEND;TZID=Europe/Madrid:20240704T220000
DESCRIPTION:Como es tradición cada año\, el Gran Casino de El Sardinero a
 cogerá hasta el próximo 7 de agosto la exposición ‘Baños de Ola’\,
  que en esta ocasión es una colección de trajes de época de Vera Simons
 . 
SUMMARY:"Baños de Ola"\, colección de trajes de época de Vera Simons
END:VEVENT
BEGIN:VEVENT
DTSTAMP:20260423T121721Z
UID:event-11872-2024-07-05T17:00:00+02:00-2024-07-05T22:00:00+02:00
DTSTART;TZID=Europe/Madrid:20240705T170000
DTEND;TZID=Europe/Madrid:20240705T220000
DESCRIPTION:Como es tradición cada año\, el Gran Casino de El Sardinero a
 cogerá hasta el próximo 7 de agosto la exposición ‘Baños de Ola’\,
  que en esta ocasión es una colección de trajes de época de Vera Simons
 . 
SUMMARY:"Baños de Ola"\, colección de trajes de época de Vera Simons
END:VEVENT
BEGIN:VEVENT
DTSTAMP:20260423T121721Z
UID:event-11872-2024-07-06T17:00:00+02:00-2024-07-06T22:00:00+02:00
DTSTART;TZID=Europe/Madrid:20240706T170000
DTEND;TZID=Europe/Madrid:20240706T220000
DESCRIPTION:Como es tradición cada año\, el Gran Casino de El Sardinero a
 cogerá hasta el próximo 7 de agosto la exposición ‘Baños de Ola’\,
  que en esta ocasión es una colección de trajes de época de Vera Simons
 . 
SUMMARY:"Baños de Ola"\, colección de trajes de época de Vera Simons
END:VEVENT
BEGIN:VEVENT
DTSTAMP:20260423T121721Z
UID:event-11872-2024-07-07T17:00:00+02:00-2024-07-07T22:00:00+02:00
DTSTART;TZID=Europe/Madrid:20240707T170000
DTEND;TZID=Europe/Madrid:20240707T220000
DESCRIPTION:Como es tradición cada año\, el Gran Casino de El Sardinero a
 cogerá hasta el próximo 7 de agosto la exposición ‘Baños de Ola’\,
  que en esta ocasión es una colección de trajes de época de Vera Simons
 . 
SUMMARY:"Baños de Ola"\, colección de trajes de época de Vera Simons
END:VEVENT
BEGIN:VEVENT
DTSTAMP:20260423T121721Z
UID:event-11872-2024-07-08T17:00:00+02:00-2024-07-08T22:00:00+02:00
DTSTART;TZID=Europe/Madrid:20240708T170000
DTEND;TZID=Europe/Madrid:20240708T220000
DESCRIPTION:Como es tradición cada año\, el Gran Casino de El Sardinero a
 cogerá hasta el próximo 7 de agosto la exposición ‘Baños de Ola’\,
  que en esta ocasión es una colección de trajes de época de Vera Simons
 . 
SUMMARY:"Baños de Ola"\, colección de trajes de época de Vera Simons
END:VEVENT
BEGIN:VEVENT
DTSTAMP:20260423T121721Z
UID:event-11872-2024-07-09T17:00:00+02:00-2024-07-09T22:00:00+02:00
DTSTART;TZID=Europe/Madrid:20240709T170000
DTEND;TZID=Europe/Madrid:20240709T220000
DESCRIPTION:Como es tradición cada año\, el Gran Casino de El Sardinero a
 cogerá hasta el próximo 7 de agosto la exposición ‘Baños de Ola’\,
  que en esta ocasión es una colección de trajes de época de Vera Simons
 . 
SUMMARY:"Baños de Ola"\, colección de trajes de época de Vera Simons
END:VEVENT
BEGIN:VEVENT
DTSTAMP:20260423T121721Z
UID:event-11872-2024-07-10T17:00:00+02:00-2024-07-10T22:00:00+02:00
DTSTART;TZID=Europe/Madrid:20240710T170000
DTEND;TZID=Europe/Madrid:20240710T220000
DESCRIPTION:Como es tradición cada año\, el Gran Casino de El Sardinero a
 cogerá hasta el próximo 7 de agosto la exposición ‘Baños de Ola’\,
  que en esta ocasión es una colección de trajes de época de Vera Simons
 . 
SUMMARY:"Baños de Ola"\, colección de trajes de época de Vera Simons
END:VEVENT
BEGIN:VEVENT
DTSTAMP:20260423T121721Z
UID:event-11872-2024-07-11T17:00:00+02:00-2024-07-11T22:00:00+02:00
DTSTART;TZID=Europe/Madrid:20240711T170000
DTEND;TZID=Europe/Madrid:20240711T220000
DESCRIPTION:Como es tradición cada año\, el Gran Casino de El Sardinero a
 cogerá hasta el próximo 7 de agosto la exposición ‘Baños de Ola’\,
  que en esta ocasión es una colección de trajes de época de Vera Simons
 . 
SUMMARY:"Baños de Ola"\, colección de trajes de época de Vera Simons
END:VEVENT
BEGIN:VEVENT
DTSTAMP:20260423T121721Z
UID:event-11872-2024-07-12T17:00:00+02:00-2024-07-12T22:00:00+02:00
DTSTART;TZID=Europe/Madrid:20240712T170000
DTEND;TZID=Europe/Madrid:20240712T220000
DESCRIPTION:Como es tradición cada año\, el Gran Casino de El Sardinero a
 cogerá hasta el próximo 7 de agosto la exposición ‘Baños de Ola’\,
  que en esta ocasión es una colección de trajes de época de Vera Simons
 . 
SUMMARY:"Baños de Ola"\, colección de trajes de época de Vera Simons
END:VEVENT
BEGIN:VEVENT
DTSTAMP:20260423T121721Z
UID:event-11872-2024-07-13T17:00:00+02:00-2024-07-13T22:00:00+02:00
DTSTART;TZID=Europe/Madrid:20240713T170000
DTEND;TZID=Europe/Madrid:20240713T220000
DESCRIPTION:Como es tradición cada año\, el Gran Casino de El Sardinero a
 cogerá hasta el próximo 7 de agosto la exposición ‘Baños de Ola’\,
  que en esta ocasión es una colección de trajes de época de Vera Simons
 . 
SUMMARY:"Baños de Ola"\, colección de trajes de época de Vera Simons
END:VEVENT
BEGIN:VEVENT
DTSTAMP:20260423T121721Z
UID:event-11872-2024-07-14T17:00:00+02:00-2024-07-14T22:00:00+02:00
DTSTART;TZID=Europe/Madrid:20240714T170000
DTEND;TZID=Europe/Madrid:20240714T220000
DESCRIPTION:Como es tradición cada año\, el Gran Casino de El Sardinero a
 cogerá hasta el próximo 7 de agosto la exposición ‘Baños de Ola’\,
  que en esta ocasión es una colección de trajes de época de Vera Simons
 . 
SUMMARY:"Baños de Ola"\, colección de trajes de época de Vera Simons
END:VEVENT
BEGIN:VEVENT
DTSTAMP:20260423T121721Z
UID:event-11872-2024-07-15T17:00:00+02:00-2024-07-15T22:00:00+02:00
DTSTART;TZID=Europe/Madrid:20240715T170000
DTEND;TZID=Europe/Madrid:20240715T220000
DESCRIPTION:Como es tradición cada año\, el Gran Casino de El Sardinero a
 cogerá hasta el próximo 7 de agosto la exposición ‘Baños de Ola’\,
  que en esta ocasión es una colección de trajes de época de Vera Simons
 . 
SUMMARY:"Baños de Ola"\, colección de trajes de época de Vera Simons
END:VEVENT
BEGIN:VEVENT
DTSTAMP:20260423T121721Z
UID:event-11872-2024-07-16T17:00:00+02:00-2024-07-16T22:00:00+02:00
DTSTART;TZID=Europe/Madrid:20240716T170000
DTEND;TZID=Europe/Madrid:20240716T220000
DESCRIPTION:Como es tradición cada año\, el Gran Casino de El Sardinero a
 cogerá hasta el próximo 7 de agosto la exposición ‘Baños de Ola’\,
  que en esta ocasión es una colección de trajes de época de Vera Simons
 . 
SUMMARY:"Baños de Ola"\, colección de trajes de época de Vera Simons
END:VEVENT
BEGIN:VEVENT
DTSTAMP:20260423T121721Z
UID:event-11872-2024-07-17T17:00:00+02:00-2024-07-17T22:00:00+02:00
DTSTART;TZID=Europe/Madrid:20240717T170000
DTEND;TZID=Europe/Madrid:20240717T220000
DESCRIPTION:Como es tradición cada año\, el Gran Casino de El Sardinero a
 cogerá hasta el próximo 7 de agosto la exposición ‘Baños de Ola’\,
  que en esta ocasión es una colección de trajes de época de Vera Simons
 . 
SUMMARY:"Baños de Ola"\, colección de trajes de época de Vera Simons
END:VEVENT
BEGIN:VEVENT
DTSTAMP:20260423T121721Z
UID:event-11872-2024-07-18T17:00:00+02:00-2024-07-18T22:00:00+02:00
DTSTART;TZID=Europe/Madrid:20240718T170000
DTEND;TZID=Europe/Madrid:20240718T220000
DESCRIPTION:Como es tradición cada año\, el Gran Casino de El Sardinero a
 cogerá hasta el próximo 7 de agosto la exposición ‘Baños de Ola’\,
  que en esta ocasión es una colección de trajes de época de Vera Simons
 . 
SUMMARY:"Baños de Ola"\, colección de trajes de época de Vera Simons
END:VEVENT
BEGIN:VEVENT
DTSTAMP:20260423T121721Z
UID:event-11872-2024-07-19T17:00:00+02:00-2024-07-19T22:00:00+02:00
DTSTART;TZID=Europe/Madrid:20240719T170000
DTEND;TZID=Europe/Madrid:20240719T220000
DESCRIPTION:Como es tradición cada año\, el Gran Casino de El Sardinero a
 cogerá hasta el próximo 7 de agosto la exposición ‘Baños de Ola’\,
  que en esta ocasión es una colección de trajes de época de Vera Simons
 . 
SUMMARY:"Baños de Ola"\, colección de trajes de época de Vera Simons
END:VEVENT
BEGIN:VEVENT
DTSTAMP:20260423T121721Z
UID:event-11872-2024-07-20T17:00:00+02:00-2024-07-20T22:00:00+02:00
DTSTART;TZID=Europe/Madrid:20240720T170000
DTEND;TZID=Europe/Madrid:20240720T220000
DESCRIPTION:Como es tradición cada año\, el Gran Casino de El Sardinero a
 cogerá hasta el próximo 7 de agosto la exposición ‘Baños de Ola’\,
  que en esta ocasión es una colección de trajes de época de Vera Simons
 . 
SUMMARY:"Baños de Ola"\, colección de trajes de época de Vera Simons
END:VEVENT
BEGIN:VEVENT
DTSTAMP:20260423T121721Z
UID:event-11872-2024-07-21T17:00:00+02:00-2024-07-21T22:00:00+02:00
DTSTART;TZID=Europe/Madrid:20240721T170000
DTEND;TZID=Europe/Madrid:20240721T220000
DESCRIPTION:Como es tradición cada año\, el Gran Casino de El Sardinero a
 cogerá hasta el próximo 7 de agosto la exposición ‘Baños de Ola’\,
  que en esta ocasión es una colección de trajes de época de Vera Simons
 . 
SUMMARY:"Baños de Ola"\, colección de trajes de época de Vera Simons
END:VEVENT
BEGIN:VEVENT
DTSTAMP:20260423T121721Z
UID:event-11872-2024-07-22T17:00:00+02:00-2024-07-22T22:00:00+02:00
DTSTART;TZID=Europe/Madrid:20240722T170000
DTEND;TZID=Europe/Madrid:20240722T220000
DESCRIPTION:Como es tradición cada año\, el Gran Casino de El Sardinero a
 cogerá hasta el próximo 7 de agosto la exposición ‘Baños de Ola’\,
  que en esta ocasión es una colección de trajes de época de Vera Simons
 . 
SUMMARY:"Baños de Ola"\, colección de trajes de época de Vera Simons
END:VEVENT
BEGIN:VEVENT
DTSTAMP:20260423T121721Z
UID:event-11872-2024-07-23T17:00:00+02:00-2024-07-23T22:00:00+02:00
DTSTART;TZID=Europe/Madrid:20240723T170000
DTEND;TZID=Europe/Madrid:20240723T220000
DESCRIPTION:Como es tradición cada año\, el Gran Casino de El Sardinero a
 cogerá hasta el próximo 7 de agosto la exposición ‘Baños de Ola’\,
  que en esta ocasión es una colección de trajes de época de Vera Simons
 . 
SUMMARY:"Baños de Ola"\, colección de trajes de época de Vera Simons
END:VEVENT
BEGIN:VEVENT
DTSTAMP:20260423T121721Z
UID:event-11872-2024-07-24T17:00:00+02:00-2024-07-24T22:00:00+02:00
DTSTART;TZID=Europe/Madrid:20240724T170000
DTEND;TZID=Europe/Madrid:20240724T220000
DESCRIPTION:Como es tradición cada año\, el Gran Casino de El Sardinero a
 cogerá hasta el próximo 7 de agosto la exposición ‘Baños de Ola’\,
  que en esta ocasión es una colección de trajes de época de Vera Simons
 . 
SUMMARY:"Baños de Ola"\, colección de trajes de época de Vera Simons
END:VEVENT
BEGIN:VEVENT
DTSTAMP:20260423T121721Z
UID:event-11872-2024-07-25T17:00:00+02:00-2024-07-25T22:00:00+02:00
DTSTART;TZID=Europe/Madrid:20240725T170000
DTEND;TZID=Europe/Madrid:20240725T220000
DESCRIPTION:Como es tradición cada año\, el Gran Casino de El Sardinero a
 cogerá hasta el próximo 7 de agosto la exposición ‘Baños de Ola’\,
  que en esta ocasión es una colección de trajes de época de Vera Simons
 . 
SUMMARY:"Baños de Ola"\, colección de trajes de época de Vera Simons
END:VEVENT
BEGIN:VEVENT
DTSTAMP:20260423T121721Z
UID:event-11872-2024-07-26T17:00:00+02:00-2024-07-26T22:00:00+02:00
DTSTART;TZID=Europe/Madrid:20240726T170000
DTEND;TZID=Europe/Madrid:20240726T220000
DESCRIPTION:Como es tradición cada año\, el Gran Casino de El Sardinero a
 cogerá hasta el próximo 7 de agosto la exposición ‘Baños de Ola’\,
  que en esta ocasión es una colección de trajes de época de Vera Simons
 . 
SUMMARY:"Baños de Ola"\, colección de trajes de época de Vera Simons
END:VEVENT
BEGIN:VEVENT
DTSTAMP:20260423T121721Z
UID:event-11872-2024-07-27T17:00:00+02:00-2024-07-27T22:00:00+02:00
DTSTART;TZID=Europe/Madrid:20240727T170000
DTEND;TZID=Europe/Madrid:20240727T220000
DESCRIPTION:Como es tradición cada año\, el Gran Casino de El Sardinero a
 cogerá hasta el próximo 7 de agosto la exposición ‘Baños de Ola’\,
  que en esta ocasión es una colección de trajes de época de Vera Simons
 . 
SUMMARY:"Baños de Ola"\, colección de trajes de época de Vera Simons
END:VEVENT
BEGIN:VEVENT
DTSTAMP:20260423T121721Z
UID:event-11872-2024-07-28T17:00:00+02:00-2024-07-28T22:00:00+02:00
DTSTART;TZID=Europe/Madrid:20240728T170000
DTEND;TZID=Europe/Madrid:20240728T220000
DESCRIPTION:Como es tradición cada año\, el Gran Casino de El Sardinero a
 cogerá hasta el próximo 7 de agosto la exposición ‘Baños de Ola’\,
  que en esta ocasión es una colección de trajes de época de Vera Simons
 . 
SUMMARY:"Baños de Ola"\, colección de trajes de época de Vera Simons
END:VEVENT
BEGIN:VEVENT
DTSTAMP:20260423T121721Z
UID:event-11872-2024-07-29T17:00:00+02:00-2024-07-29T22:00:00+02:00
DTSTART;TZID=Europe/Madrid:20240729T170000
DTEND;TZID=Europe/Madrid:20240729T220000
DESCRIPTION:Como es tradición cada año\, el Gran Casino de El Sardinero a
 cogerá hasta el próximo 7 de agosto la exposición ‘Baños de Ola’\,
  que en esta ocasión es una colección de trajes de época de Vera Simons
 . 
SUMMARY:"Baños de Ola"\, colección de trajes de época de Vera Simons
END:VEVENT
BEGIN:VEVENT
DTSTAMP:20260423T121721Z
UID:event-11872-2024-07-30T17:00:00+02:00-2024-07-30T22:00:00+02:00
DTSTART;TZID=Europe/Madrid:20240730T170000
DTEND;TZID=Europe/Madrid:20240730T220000
DESCRIPTION:Como es tradición cada año\, el Gran Casino de El Sardinero a
 cogerá hasta el próximo 7 de agosto la exposición ‘Baños de Ola’\,
  que en esta ocasión es una colección de trajes de época de Vera Simons
 . 
SUMMARY:"Baños de Ola"\, colección de trajes de época de Vera Simons
END:VEVENT
BEGIN:VEVENT
DTSTAMP:20260423T121721Z
UID:event-11872-2024-07-31T17:00:00+02:00-2024-07-31T22:00:00+02:00
DTSTART;TZID=Europe/Madrid:20240731T170000
DTEND;TZID=Europe/Madrid:20240731T220000
DESCRIPTION:Como es tradición cada año\, el Gran Casino de El Sardinero a
 cogerá hasta el próximo 7 de agosto la exposición ‘Baños de Ola’\,
  que en esta ocasión es una colección de trajes de época de Vera Simons
 . 
SUMMARY:"Baños de Ola"\, colección de trajes de época de Vera Simons
END:VEVENT
BEGIN:VEVENT
DTSTAMP:20260423T121721Z
UID:event-11872-2024-08-01T17:00:00+02:00-2024-08-01T22:00:00+02:00
DTSTART;TZID=Europe/Madrid:20240801T170000
DTEND;TZID=Europe/Madrid:20240801T220000
DESCRIPTION:Como es tradición cada año\, el Gran Casino de El Sardinero a
 cogerá hasta el próximo 7 de agosto la exposición ‘Baños de Ola’\,
  que en esta ocasión es una colección de trajes de época de Vera Simons
 . 
SUMMARY:"Baños de Ola"\, colección de trajes de época de Vera Simons
END:VEVENT
BEGIN:VEVENT
DTSTAMP:20260423T121721Z
UID:event-11872-2024-08-02T17:00:00+02:00-2024-08-02T22:00:00+02:00
DTSTART;TZID=Europe/Madrid:20240802T170000
DTEND;TZID=Europe/Madrid:20240802T220000
DESCRIPTION:Como es tradición cada año\, el Gran Casino de El Sardinero a
 cogerá hasta el próximo 7 de agosto la exposición ‘Baños de Ola’\,
  que en esta ocasión es una colección de trajes de época de Vera Simons
 . 
SUMMARY:"Baños de Ola"\, colección de trajes de época de Vera Simons
END:VEVENT
BEGIN:VEVENT
DTSTAMP:20260423T121721Z
UID:event-11872-2024-08-03T17:00:00+02:00-2024-08-03T22:00:00+02:00
DTSTART;TZID=Europe/Madrid:20240803T170000
DTEND;TZID=Europe/Madrid:20240803T220000
DESCRIPTION:Como es tradición cada año\, el Gran Casino de El Sardinero a
 cogerá hasta el próximo 7 de agosto la exposición ‘Baños de Ola’\,
  que en esta ocasión es una colección de trajes de época de Vera Simons
 . 
SUMMARY:"Baños de Ola"\, colección de trajes de época de Vera Simons
END:VEVENT
BEGIN:VEVENT
DTSTAMP:20260423T121721Z
UID:event-11872-2024-08-04T17:00:00+02:00-2024-08-04T22:00:00+02:00
DTSTART;TZID=Europe/Madrid:20240804T170000
DTEND;TZID=Europe/Madrid:20240804T220000
DESCRIPTION:Como es tradición cada año\, el Gran Casino de El Sardinero a
 cogerá hasta el próximo 7 de agosto la exposición ‘Baños de Ola’\,
  que en esta ocasión es una colección de trajes de época de Vera Simons
 . 
SUMMARY:"Baños de Ola"\, colección de trajes de época de Vera Simons
END:VEVENT
BEGIN:VEVENT
DTSTAMP:20260423T121721Z
UID:event-11872-2024-08-05T17:00:00+02:00-2024-08-05T22:00:00+02:00
DTSTART;TZID=Europe/Madrid:20240805T170000
DTEND;TZID=Europe/Madrid:20240805T220000
DESCRIPTION:Como es tradición cada año\, el Gran Casino de El Sardinero a
 cogerá hasta el próximo 7 de agosto la exposición ‘Baños de Ola’\,
  que en esta ocasión es una colección de trajes de época de Vera Simons
 . 
SUMMARY:"Baños de Ola"\, colección de trajes de época de Vera Simons
END:VEVENT
BEGIN:VEVENT
DTSTAMP:20260423T121721Z
UID:event-11872-2024-08-06T17:00:00+02:00-2024-08-06T22:00:00+02:00
DTSTART;TZID=Europe/Madrid:20240806T170000
DTEND;TZID=Europe/Madrid:20240806T220000
DESCRIPTION:Como es tradición cada año\, el Gran Casino de El Sardinero a
 cogerá hasta el próximo 7 de agosto la exposición ‘Baños de Ola’\,
  que en esta ocasión es una colección de trajes de época de Vera Simons
 . 
SUMMARY:"Baños de Ola"\, colección de trajes de época de Vera Simons
END:VEVENT
BEGIN:VEVENT
DTSTAMP:20260423T121721Z
UID:event-11872-2024-08-07T17:00:00+02:00-2024-08-07T22:00:00+02:00
DTSTART;TZID=Europe/Madrid:20240807T170000
DTEND;TZID=Europe/Madrid:20240807T220000
DESCRIPTION:Como es tradición cada año\, el Gran Casino de El Sardinero a
 cogerá hasta el próximo 7 de agosto la exposición ‘Baños de Ola’\,
  que en esta ocasión es una colección de trajes de época de Vera Simons
 . 
SUMMARY:"Baños de Ola"\, colección de trajes de época de Vera Simons
END:VEVENT
END:VCALENDAR
