BEGIN:VCALENDAR
VERSION:2.0
PRODID:icalendar-ruby
CALSCALE:GREGORIAN
METHOD:PUBLISH
BEGIN:VEVENT
DTSTAMP:20260420T173727Z
UID:event-21336-2026-06-02T20:30:00+02:00-none
DTSTART;TZID=Europe/Madrid:20260602T203000
DESCRIPTION:El próximo 2 de junio\, las míticas Rock Nights de Escenario 
 Santander se visten de gala (y de barro\, y de alma) para recibir a una de
  las bandas más inclasificables y magnéticas del panorama actual: Beaux 
 Gris Gris & The Apocalypse.
SUMMARY:Beaux Gris Gris & The Apocalypse en las Rock Nights
END:VEVENT
END:VCALENDAR
