BEGIN:VCALENDAR
VERSION:2.0
PRODID:icalendar-ruby
CALSCALE:GREGORIAN
METHOD:PUBLISH
BEGIN:VEVENT
DTSTAMP:20260420T171527Z
UID:event-21323-2026-06-09T21:00:00+02:00-none
DTSTART;TZID=Europe/Madrid:20260609T210000
DESCRIPTION:Black Country\, New Road aterrizan en la sala para presentar un
  directo contundente\, cargado de matices y esa energía cruda que solo se
  respira en las grandes noches de rock. 
SUMMARY:Black Country\, New Road
END:VEVENT
END:VCALENDAR
