BEGIN:VCALENDAR
VERSION:2.0
PRODID:icalendar-ruby
CALSCALE:GREGORIAN
METHOD:PUBLISH
BEGIN:VEVENT
DTSTAMP:20260421T222548Z
UID:event-22329-2026-05-29T20:00:00+02:00-none
DTSTART;TZID=Europe/Madrid:20260529T200000
DESCRIPTION:El Café Científico es un espacio en el que se acercan las cie
 ncias a la sociedad de una forma grata y amigable. A través de una presen
 tación breve y atractiva se estimula el debate sobre ciencias\, tecnolog
 ía\, cultura y sociedad. 
SUMMARY:Café Científico: ¿Dónde están las mujeres de la Prehistoria?
END:VEVENT
END:VCALENDAR
