BEGIN:VCALENDAR
VERSION:2.0
PRODID:icalendar-ruby
CALSCALE:GREGORIAN
METHOD:PUBLISH
BEGIN:VEVENT
DTSTAMP:20260423T153716Z
UID:event-15884-2025-04-21T08:30:00+02:00-2025-04-21T14:30:00+02:00
DTSTART;TZID=Europe/Madrid:20250421T083000
DTEND;TZID=Europe/Madrid:20250421T143000
DESCRIPTION:Los cuatro campus se llevarán a cabo en horario de mañana\, c
 on diferentes opciones de horarios para que cada familia elija el que más
  se adapte a su situación\, y consistirán en la realización de diversas
  actividades\, juegos\, o talleres.
SUMMARY:Campus infantil de Semana Santa en Centros Cívicos
END:VEVENT
BEGIN:VEVENT
DTSTAMP:20260423T153716Z
UID:event-15884-2025-04-22T08:30:00+02:00-2025-04-22T14:30:00+02:00
DTSTART;TZID=Europe/Madrid:20250422T083000
DTEND;TZID=Europe/Madrid:20250422T143000
DESCRIPTION:Los cuatro campus se llevarán a cabo en horario de mañana\, c
 on diferentes opciones de horarios para que cada familia elija el que más
  se adapte a su situación\, y consistirán en la realización de diversas
  actividades\, juegos\, o talleres.
SUMMARY:Campus infantil de Semana Santa en Centros Cívicos
END:VEVENT
BEGIN:VEVENT
DTSTAMP:20260423T153716Z
UID:event-15884-2025-04-23T08:30:00+02:00-2025-04-23T14:30:00+02:00
DTSTART;TZID=Europe/Madrid:20250423T083000
DTEND;TZID=Europe/Madrid:20250423T143000
DESCRIPTION:Los cuatro campus se llevarán a cabo en horario de mañana\, c
 on diferentes opciones de horarios para que cada familia elija el que más
  se adapte a su situación\, y consistirán en la realización de diversas
  actividades\, juegos\, o talleres.
SUMMARY:Campus infantil de Semana Santa en Centros Cívicos
END:VEVENT
BEGIN:VEVENT
DTSTAMP:20260423T153716Z
UID:event-15884-2025-04-24T08:30:00+02:00-2025-04-24T14:30:00+02:00
DTSTART;TZID=Europe/Madrid:20250424T083000
DTEND;TZID=Europe/Madrid:20250424T143000
DESCRIPTION:Los cuatro campus se llevarán a cabo en horario de mañana\, c
 on diferentes opciones de horarios para que cada familia elija el que más
  se adapte a su situación\, y consistirán en la realización de diversas
  actividades\, juegos\, o talleres.
SUMMARY:Campus infantil de Semana Santa en Centros Cívicos
END:VEVENT
BEGIN:VEVENT
DTSTAMP:20260423T153716Z
UID:event-15884-2025-04-25T08:30:00+02:00-2025-04-25T14:30:00+02:00
DTSTART;TZID=Europe/Madrid:20250425T083000
DTEND;TZID=Europe/Madrid:20250425T143000
DESCRIPTION:Los cuatro campus se llevarán a cabo en horario de mañana\, c
 on diferentes opciones de horarios para que cada familia elija el que más
  se adapte a su situación\, y consistirán en la realización de diversas
  actividades\, juegos\, o talleres.
SUMMARY:Campus infantil de Semana Santa en Centros Cívicos
END:VEVENT
END:VCALENDAR
