BEGIN:VCALENDAR
VERSION:2.0
PRODID:icalendar-ruby
CALSCALE:GREGORIAN
METHOD:PUBLISH
BEGIN:VEVENT
DTSTAMP:20260423T045530Z
UID:event-21040-2026-05-02T20:00:00+02:00-none
DTSTART;TZID=Europe/Madrid:20260502T200000
DESCRIPTION:Una artista total\, compositora\, pianista y letrista que ha re
 novado la jota aragonesa y ha revitalizado el folclore ibérico mezclándo
 lo magistralmente con ritmos y melodías del Mediterráneo y de África y 
 América. 
SUMMARY:Carmen París presenta "París al piano"
END:VEVENT
END:VCALENDAR
