BEGIN:VCALENDAR
VERSION:2.0
PRODID:icalendar-ruby
CALSCALE:GREGORIAN
METHOD:PUBLISH
BEGIN:VEVENT
DTSTAMP:20260421T200810Z
UID:event-22123-2026-08-18T20:00:00+02:00-none
DTSTART;TZID=Europe/Madrid:20260818T200000
DESCRIPTION:Espectáculo único en la intersección de la música\, la ópe
 ra\, el teatro y el circo\, el Carnaval Barroco nos invita a un día de ce
 lebración en Venecia.
SUMMARY:"Carnaval Barroco". Le Poème Harmonique
END:VEVENT
END:VCALENDAR
