BEGIN:VCALENDAR
VERSION:2.0
PRODID:icalendar-ruby
CALSCALE:GREGORIAN
METHOD:PUBLISH
BEGIN:VEVENT
DTSTAMP:20260422T174102Z
UID:event-12101-2024-07-25T11:00:00+02:00-2024-07-25T23:59:00+02:00
DTSTART;TZID=Europe/Madrid:20240725T110000
DTEND;TZID=Europe/Madrid:20240725T235900
DESCRIPTION:La Semana Grande de Santander se celebra del 19 al 28 de julio 
 con una programación muy variada que incluirá cientos de propuestas y ac
 tividades culturales\, lúdicas y de ocio\, para todos los gustos y edades
 .
SUMMARY:Celebra la Semana Grande este jueves 25 de julio
END:VEVENT
END:VCALENDAR
