BEGIN:VCALENDAR
VERSION:2.0
PRODID:icalendar-ruby
CALSCALE:GREGORIAN
METHOD:PUBLISH
BEGIN:VEVENT
DTSTAMP:20260423T135009Z
UID:event-21415-2026-05-08T19:00:00+02:00-none
DTSTART;TZID=Europe/Madrid:20260508T190000
DESCRIPTION: A través de gafas de realidad virtual y una atmósfera sonora
  envolvente\, los asistentes se integran en la propia dramaturgia\, convir
 tiéndose en protagonistas de un juego constante entre lo real y lo virtua
 l. 
SUMMARY:"Cervantes encantado"\, teatro inmersivo de Ruido Interno
END:VEVENT
BEGIN:VEVENT
DTSTAMP:20260423T135009Z
UID:event-21415-2026-05-08T20:15:00+02:00-none
DTSTART;TZID=Europe/Madrid:20260508T201500
DESCRIPTION: A través de gafas de realidad virtual y una atmósfera sonora
  envolvente\, los asistentes se integran en la propia dramaturgia\, convir
 tiéndose en protagonistas de un juego constante entre lo real y lo virtua
 l. 
SUMMARY:"Cervantes encantado"\, teatro inmersivo de Ruido Interno
END:VEVENT
END:VCALENDAR
