BEGIN:VCALENDAR
VERSION:2.0
PRODID:icalendar-ruby
CALSCALE:GREGORIAN
METHOD:PUBLISH
BEGIN:VEVENT
DTSTAMP:20260423T104337Z
UID:event-4698-2023-01-25T18:00:00+01:00-none
DTSTART;TZID=Europe/Madrid:20230125T180000
DESCRIPTION:La conferencia abordará las condiciones generales de acceso a 
 las pensiones de jubilación: Ordinaria Anticipada Determinación de la cu
 antía de la pensión de jubilación.
SUMMARY:Charla informativa sobre la prestación de jubilación
END:VEVENT
END:VCALENDAR
