BEGIN:VCALENDAR
VERSION:2.0
PRODID:icalendar-ruby
CALSCALE:GREGORIAN
METHOD:PUBLISH
BEGIN:VEVENT
DTSTAMP:20260421T180231Z
UID:event-21794-2026-04-24T19:30:00+02:00-none
DTSTART;TZID=Europe/Madrid:20260424T193000
DESCRIPTION:Una conversación cercana para descubrir cómo la risa\, el jue
 go y la creatividad también pueden formar parte del cuidado y ayudarnos a
  imaginar una sanidad más humana. 
SUMMARY:Charla sobre clown hospitalario y social con Txetxe Folch\, Laura O
 rduña y Raquel Gómez
END:VEVENT
END:VCALENDAR
