BEGIN:VCALENDAR
VERSION:2.0
PRODID:icalendar-ruby
CALSCALE:GREGORIAN
METHOD:PUBLISH
BEGIN:VEVENT
DTSTAMP:20260420T161848Z
UID:event-21439-2026-09-23T19:00:00+02:00-none
DTSTART;TZID=Europe/Madrid:20260923T190000
DESCRIPTION:Montse Ferreras Ibáñez es Licenciada en Ciencias de la Inform
 ación por la Universidad Pontifica de Salamanca y Máster en Comunicació
 n Digital por la Universidad de Cantabria. 
SUMMARY:Ciclo "Más allá de la escritura”: Encuentro con Montse Ferreras
END:VEVENT
END:VCALENDAR
