BEGIN:VCALENDAR
VERSION:2.0
PRODID:icalendar-ruby
CALSCALE:GREGORIAN
METHOD:PUBLISH
BEGIN:VEVENT
DTSTAMP:20260420T144301Z
UID:event-21438-2026-06-10T19:00:00+02:00-none
DTSTART;TZID=Europe/Madrid:20260610T190000
DESCRIPTION:Psicooncóloga y experta en cuidados paliativos y duelo. Máste
 r en Filosofía aplicada. Máster en Neuropsicología clínica. Trabaja e 
 investiga en oncología pediátrica con niños\, adolescentes y familias e
 n procesos de enfermedad y duelo. 
SUMMARY:Ciclo "Más allá de la escritura”: Encuentro con Noelia Palacio
END:VEVENT
END:VCALENDAR
