BEGIN:VCALENDAR
VERSION:2.0
PRODID:icalendar-ruby
CALSCALE:GREGORIAN
METHOD:PUBLISH
BEGIN:VEVENT
DTSTAMP:20260421T222723Z
UID:event-22331-2026-06-10T19:30:00+02:00-none
DTSTART;TZID=Europe/Madrid:20260610T193000
DESCRIPTION:El Aula de la Ciencia en colaboración con el Instituto de Fís
 ica de Cantabria (UC-CSIC) y el Ateneo de Santander organiza este ciclo pa
 ra acercar las ciencias a la sociedad cántabra. 
SUMMARY:Ciencia en el Ateneo: "Regulando lo invisible: Ética y derecho en 
 la era de la inteligencia artificial"
END:VEVENT
END:VCALENDAR
