BEGIN:VCALENDAR
VERSION:2.0
PRODID:icalendar-ruby
CALSCALE:GREGORIAN
METHOD:PUBLISH
BEGIN:VEVENT
DTSTAMP:20260421T190403Z
UID:event-22404-2026-05-30T18:00:00+02:00-none
DTSTART;TZID=Europe/Madrid:20260530T180000
DESCRIPTION:En esta sesión veremos una selección de películas que el bai
 larín\, coreógrafo\, creador y director de Fiver\, Samuel Retortillo\, h
 a preparado para los asistentes. 
SUMMARY:Cinedanza y creatividad en familia
END:VEVENT
END:VCALENDAR
