BEGIN:VCALENDAR
VERSION:2.0
PRODID:icalendar-ruby
CALSCALE:GREGORIAN
METHOD:PUBLISH
BEGIN:VEVENT
DTSTAMP:20260421T173406Z
UID:event-22389-2026-05-16T10:00:00+02:00-2026-05-16T14:00:00+02:00
DTSTART;TZID=Europe/Madrid:20260516T100000
DTEND;TZID=Europe/Madrid:20260516T140000
DESCRIPTION:Fotógrafas itinerantes\, viajeras incansables y apasionadas de
  la técnica estenopeica\, Fotolateras viajan con sus “cámaras” (cons
 truidas a partir de latas) “enlatando” el mundo. 
SUMMARY:Clase Magistral con Fotolateras\, “Ciudades enlatadas”
END:VEVENT
BEGIN:VEVENT
DTSTAMP:20260421T173406Z
UID:event-22389-2026-05-16T16:00:00+02:00-2026-05-16T20:00:00+02:00
DTSTART;TZID=Europe/Madrid:20260516T160000
DTEND;TZID=Europe/Madrid:20260516T200000
DESCRIPTION:Fotógrafas itinerantes\, viajeras incansables y apasionadas de
  la técnica estenopeica\, Fotolateras viajan con sus “cámaras” (cons
 truidas a partir de latas) “enlatando” el mundo. 
SUMMARY:Clase Magistral con Fotolateras\, “Ciudades enlatadas”
END:VEVENT
END:VCALENDAR
