BEGIN:VCALENDAR
VERSION:2.0
PRODID:icalendar-ruby
CALSCALE:GREGORIAN
METHOD:PUBLISH
BEGIN:VEVENT
DTSTAMP:20260420T153850Z
UID:event-18193-2025-10-02T17:15:00+02:00-2025-10-02T18:45:00+02:00
DTSTART;TZID=Europe/Madrid:20251002T171500
DTEND;TZID=Europe/Madrid:20251002T184500
DESCRIPTION:En este nuevo curso se internarán en el territorio de la encua
 dernación\, el collage\, el carvado\, figuras de papel en 3D\, y otras ma
 terias que los participantes irán descubriendo. 
SUMMARY:Clases de creatividad infantil 2025-2026
END:VEVENT
BEGIN:VEVENT
DTSTAMP:20260420T153850Z
UID:event-18193-2025-10-09T17:15:00+02:00-2025-10-09T18:45:00+02:00
DTSTART;TZID=Europe/Madrid:20251009T171500
DTEND;TZID=Europe/Madrid:20251009T184500
DESCRIPTION:En este nuevo curso se internarán en el territorio de la encua
 dernación\, el collage\, el carvado\, figuras de papel en 3D\, y otras ma
 terias que los participantes irán descubriendo. 
SUMMARY:Clases de creatividad infantil 2025-2026
END:VEVENT
BEGIN:VEVENT
DTSTAMP:20260420T153850Z
UID:event-18193-2025-10-16T17:15:00+02:00-2025-10-16T18:45:00+02:00
DTSTART;TZID=Europe/Madrid:20251016T171500
DTEND;TZID=Europe/Madrid:20251016T184500
DESCRIPTION:En este nuevo curso se internarán en el territorio de la encua
 dernación\, el collage\, el carvado\, figuras de papel en 3D\, y otras ma
 terias que los participantes irán descubriendo. 
SUMMARY:Clases de creatividad infantil 2025-2026
END:VEVENT
BEGIN:VEVENT
DTSTAMP:20260420T153850Z
UID:event-18193-2025-10-23T17:15:00+02:00-2025-10-23T18:45:00+02:00
DTSTART;TZID=Europe/Madrid:20251023T171500
DTEND;TZID=Europe/Madrid:20251023T184500
DESCRIPTION:En este nuevo curso se internarán en el territorio de la encua
 dernación\, el collage\, el carvado\, figuras de papel en 3D\, y otras ma
 terias que los participantes irán descubriendo. 
SUMMARY:Clases de creatividad infantil 2025-2026
END:VEVENT
BEGIN:VEVENT
DTSTAMP:20260420T153850Z
UID:event-18193-2025-10-30T17:15:00+01:00-2025-10-30T18:45:00+01:00
DTSTART;TZID=Europe/Madrid:20251030T171500
DTEND;TZID=Europe/Madrid:20251030T184500
DESCRIPTION:En este nuevo curso se internarán en el territorio de la encua
 dernación\, el collage\, el carvado\, figuras de papel en 3D\, y otras ma
 terias que los participantes irán descubriendo. 
SUMMARY:Clases de creatividad infantil 2025-2026
END:VEVENT
BEGIN:VEVENT
DTSTAMP:20260420T153850Z
UID:event-18193-2025-11-06T17:15:00+01:00-2025-11-06T18:45:00+01:00
DTSTART;TZID=Europe/Madrid:20251106T171500
DTEND;TZID=Europe/Madrid:20251106T184500
DESCRIPTION:En este nuevo curso se internarán en el territorio de la encua
 dernación\, el collage\, el carvado\, figuras de papel en 3D\, y otras ma
 terias que los participantes irán descubriendo. 
SUMMARY:Clases de creatividad infantil 2025-2026
END:VEVENT
BEGIN:VEVENT
DTSTAMP:20260420T153850Z
UID:event-18193-2025-11-13T17:15:00+01:00-2025-11-13T18:45:00+01:00
DTSTART;TZID=Europe/Madrid:20251113T171500
DTEND;TZID=Europe/Madrid:20251113T184500
DESCRIPTION:En este nuevo curso se internarán en el territorio de la encua
 dernación\, el collage\, el carvado\, figuras de papel en 3D\, y otras ma
 terias que los participantes irán descubriendo. 
SUMMARY:Clases de creatividad infantil 2025-2026
END:VEVENT
BEGIN:VEVENT
DTSTAMP:20260420T153850Z
UID:event-18193-2025-11-20T17:15:00+01:00-2025-11-20T18:45:00+01:00
DTSTART;TZID=Europe/Madrid:20251120T171500
DTEND;TZID=Europe/Madrid:20251120T184500
DESCRIPTION:En este nuevo curso se internarán en el territorio de la encua
 dernación\, el collage\, el carvado\, figuras de papel en 3D\, y otras ma
 terias que los participantes irán descubriendo. 
SUMMARY:Clases de creatividad infantil 2025-2026
END:VEVENT
BEGIN:VEVENT
DTSTAMP:20260420T153850Z
UID:event-18193-2025-11-27T17:15:00+01:00-2025-11-27T18:45:00+01:00
DTSTART;TZID=Europe/Madrid:20251127T171500
DTEND;TZID=Europe/Madrid:20251127T184500
DESCRIPTION:En este nuevo curso se internarán en el territorio de la encua
 dernación\, el collage\, el carvado\, figuras de papel en 3D\, y otras ma
 terias que los participantes irán descubriendo. 
SUMMARY:Clases de creatividad infantil 2025-2026
END:VEVENT
BEGIN:VEVENT
DTSTAMP:20260420T153850Z
UID:event-18193-2025-12-04T17:15:00+01:00-2025-12-04T18:45:00+01:00
DTSTART;TZID=Europe/Madrid:20251204T171500
DTEND;TZID=Europe/Madrid:20251204T184500
DESCRIPTION:En este nuevo curso se internarán en el territorio de la encua
 dernación\, el collage\, el carvado\, figuras de papel en 3D\, y otras ma
 terias que los participantes irán descubriendo. 
SUMMARY:Clases de creatividad infantil 2025-2026
END:VEVENT
BEGIN:VEVENT
DTSTAMP:20260420T153850Z
UID:event-18193-2025-12-11T17:15:00+01:00-2025-12-11T18:45:00+01:00
DTSTART;TZID=Europe/Madrid:20251211T171500
DTEND;TZID=Europe/Madrid:20251211T184500
DESCRIPTION:En este nuevo curso se internarán en el territorio de la encua
 dernación\, el collage\, el carvado\, figuras de papel en 3D\, y otras ma
 terias que los participantes irán descubriendo. 
SUMMARY:Clases de creatividad infantil 2025-2026
END:VEVENT
BEGIN:VEVENT
DTSTAMP:20260420T153850Z
UID:event-18193-2025-12-18T17:15:00+01:00-2025-12-18T18:45:00+01:00
DTSTART;TZID=Europe/Madrid:20251218T171500
DTEND;TZID=Europe/Madrid:20251218T184500
DESCRIPTION:En este nuevo curso se internarán en el territorio de la encua
 dernación\, el collage\, el carvado\, figuras de papel en 3D\, y otras ma
 terias que los participantes irán descubriendo. 
SUMMARY:Clases de creatividad infantil 2025-2026
END:VEVENT
BEGIN:VEVENT
DTSTAMP:20260420T153850Z
UID:event-18193-2026-01-08T17:15:00+01:00-2026-01-08T18:45:00+01:00
DTSTART;TZID=Europe/Madrid:20260108T171500
DTEND;TZID=Europe/Madrid:20260108T184500
DESCRIPTION:En este nuevo curso se internarán en el territorio de la encua
 dernación\, el collage\, el carvado\, figuras de papel en 3D\, y otras ma
 terias que los participantes irán descubriendo. 
SUMMARY:Clases de creatividad infantil 2025-2026
END:VEVENT
BEGIN:VEVENT
DTSTAMP:20260420T153850Z
UID:event-18193-2026-01-15T17:15:00+01:00-2026-01-15T18:45:00+01:00
DTSTART;TZID=Europe/Madrid:20260115T171500
DTEND;TZID=Europe/Madrid:20260115T184500
DESCRIPTION:En este nuevo curso se internarán en el territorio de la encua
 dernación\, el collage\, el carvado\, figuras de papel en 3D\, y otras ma
 terias que los participantes irán descubriendo. 
SUMMARY:Clases de creatividad infantil 2025-2026
END:VEVENT
BEGIN:VEVENT
DTSTAMP:20260420T153850Z
UID:event-18193-2026-01-22T17:15:00+01:00-2026-01-22T18:45:00+01:00
DTSTART;TZID=Europe/Madrid:20260122T171500
DTEND;TZID=Europe/Madrid:20260122T184500
DESCRIPTION:En este nuevo curso se internarán en el territorio de la encua
 dernación\, el collage\, el carvado\, figuras de papel en 3D\, y otras ma
 terias que los participantes irán descubriendo. 
SUMMARY:Clases de creatividad infantil 2025-2026
END:VEVENT
BEGIN:VEVENT
DTSTAMP:20260420T153850Z
UID:event-18193-2026-01-29T17:15:00+01:00-2026-01-29T18:45:00+01:00
DTSTART;TZID=Europe/Madrid:20260129T171500
DTEND;TZID=Europe/Madrid:20260129T184500
DESCRIPTION:En este nuevo curso se internarán en el territorio de la encua
 dernación\, el collage\, el carvado\, figuras de papel en 3D\, y otras ma
 terias que los participantes irán descubriendo. 
SUMMARY:Clases de creatividad infantil 2025-2026
END:VEVENT
BEGIN:VEVENT
DTSTAMP:20260420T153850Z
UID:event-18193-2026-02-05T17:15:00+01:00-2026-02-05T18:45:00+01:00
DTSTART;TZID=Europe/Madrid:20260205T171500
DTEND;TZID=Europe/Madrid:20260205T184500
DESCRIPTION:En este nuevo curso se internarán en el territorio de la encua
 dernación\, el collage\, el carvado\, figuras de papel en 3D\, y otras ma
 terias que los participantes irán descubriendo. 
SUMMARY:Clases de creatividad infantil 2025-2026
END:VEVENT
BEGIN:VEVENT
DTSTAMP:20260420T153850Z
UID:event-18193-2026-02-12T17:15:00+01:00-2026-02-12T18:45:00+01:00
DTSTART;TZID=Europe/Madrid:20260212T171500
DTEND;TZID=Europe/Madrid:20260212T184500
DESCRIPTION:En este nuevo curso se internarán en el territorio de la encua
 dernación\, el collage\, el carvado\, figuras de papel en 3D\, y otras ma
 terias que los participantes irán descubriendo. 
SUMMARY:Clases de creatividad infantil 2025-2026
END:VEVENT
BEGIN:VEVENT
DTSTAMP:20260420T153850Z
UID:event-18193-2026-02-19T17:15:00+01:00-2026-02-19T18:45:00+01:00
DTSTART;TZID=Europe/Madrid:20260219T171500
DTEND;TZID=Europe/Madrid:20260219T184500
DESCRIPTION:En este nuevo curso se internarán en el territorio de la encua
 dernación\, el collage\, el carvado\, figuras de papel en 3D\, y otras ma
 terias que los participantes irán descubriendo. 
SUMMARY:Clases de creatividad infantil 2025-2026
END:VEVENT
BEGIN:VEVENT
DTSTAMP:20260420T153850Z
UID:event-18193-2026-02-26T17:15:00+01:00-2026-02-26T18:45:00+01:00
DTSTART;TZID=Europe/Madrid:20260226T171500
DTEND;TZID=Europe/Madrid:20260226T184500
DESCRIPTION:En este nuevo curso se internarán en el territorio de la encua
 dernación\, el collage\, el carvado\, figuras de papel en 3D\, y otras ma
 terias que los participantes irán descubriendo. 
SUMMARY:Clases de creatividad infantil 2025-2026
END:VEVENT
BEGIN:VEVENT
DTSTAMP:20260420T153850Z
UID:event-18193-2026-03-05T17:15:00+01:00-2026-03-05T18:45:00+01:00
DTSTART;TZID=Europe/Madrid:20260305T171500
DTEND;TZID=Europe/Madrid:20260305T184500
DESCRIPTION:En este nuevo curso se internarán en el territorio de la encua
 dernación\, el collage\, el carvado\, figuras de papel en 3D\, y otras ma
 terias que los participantes irán descubriendo. 
SUMMARY:Clases de creatividad infantil 2025-2026
END:VEVENT
BEGIN:VEVENT
DTSTAMP:20260420T153850Z
UID:event-18193-2026-03-12T17:15:00+01:00-2026-03-12T18:45:00+01:00
DTSTART;TZID=Europe/Madrid:20260312T171500
DTEND;TZID=Europe/Madrid:20260312T184500
DESCRIPTION:En este nuevo curso se internarán en el territorio de la encua
 dernación\, el collage\, el carvado\, figuras de papel en 3D\, y otras ma
 terias que los participantes irán descubriendo. 
SUMMARY:Clases de creatividad infantil 2025-2026
END:VEVENT
BEGIN:VEVENT
DTSTAMP:20260420T153850Z
UID:event-18193-2026-03-19T17:15:00+01:00-2026-03-19T18:45:00+01:00
DTSTART;TZID=Europe/Madrid:20260319T171500
DTEND;TZID=Europe/Madrid:20260319T184500
DESCRIPTION:En este nuevo curso se internarán en el territorio de la encua
 dernación\, el collage\, el carvado\, figuras de papel en 3D\, y otras ma
 terias que los participantes irán descubriendo. 
SUMMARY:Clases de creatividad infantil 2025-2026
END:VEVENT
BEGIN:VEVENT
DTSTAMP:20260420T153850Z
UID:event-18193-2026-03-26T17:15:00+01:00-2026-03-26T18:45:00+01:00
DTSTART;TZID=Europe/Madrid:20260326T171500
DTEND;TZID=Europe/Madrid:20260326T184500
DESCRIPTION:En este nuevo curso se internarán en el territorio de la encua
 dernación\, el collage\, el carvado\, figuras de papel en 3D\, y otras ma
 terias que los participantes irán descubriendo. 
SUMMARY:Clases de creatividad infantil 2025-2026
END:VEVENT
BEGIN:VEVENT
DTSTAMP:20260420T153850Z
UID:event-18193-2026-04-02T17:15:00+02:00-2026-04-02T18:45:00+02:00
DTSTART;TZID=Europe/Madrid:20260402T171500
DTEND;TZID=Europe/Madrid:20260402T184500
DESCRIPTION:En este nuevo curso se internarán en el territorio de la encua
 dernación\, el collage\, el carvado\, figuras de papel en 3D\, y otras ma
 terias que los participantes irán descubriendo. 
SUMMARY:Clases de creatividad infantil 2025-2026
END:VEVENT
BEGIN:VEVENT
DTSTAMP:20260420T153850Z
UID:event-18193-2026-04-09T17:15:00+02:00-2026-04-09T18:45:00+02:00
DTSTART;TZID=Europe/Madrid:20260409T171500
DTEND;TZID=Europe/Madrid:20260409T184500
DESCRIPTION:En este nuevo curso se internarán en el territorio de la encua
 dernación\, el collage\, el carvado\, figuras de papel en 3D\, y otras ma
 terias que los participantes irán descubriendo. 
SUMMARY:Clases de creatividad infantil 2025-2026
END:VEVENT
BEGIN:VEVENT
DTSTAMP:20260420T153850Z
UID:event-18193-2026-04-16T17:15:00+02:00-2026-04-16T18:45:00+02:00
DTSTART;TZID=Europe/Madrid:20260416T171500
DTEND;TZID=Europe/Madrid:20260416T184500
DESCRIPTION:En este nuevo curso se internarán en el territorio de la encua
 dernación\, el collage\, el carvado\, figuras de papel en 3D\, y otras ma
 terias que los participantes irán descubriendo. 
SUMMARY:Clases de creatividad infantil 2025-2026
END:VEVENT
BEGIN:VEVENT
DTSTAMP:20260420T153850Z
UID:event-18193-2026-04-23T17:15:00+02:00-2026-04-23T18:45:00+02:00
DTSTART;TZID=Europe/Madrid:20260423T171500
DTEND;TZID=Europe/Madrid:20260423T184500
DESCRIPTION:En este nuevo curso se internarán en el territorio de la encua
 dernación\, el collage\, el carvado\, figuras de papel en 3D\, y otras ma
 terias que los participantes irán descubriendo. 
SUMMARY:Clases de creatividad infantil 2025-2026
END:VEVENT
BEGIN:VEVENT
DTSTAMP:20260420T153850Z
UID:event-18193-2026-04-30T17:15:00+02:00-2026-04-30T18:45:00+02:00
DTSTART;TZID=Europe/Madrid:20260430T171500
DTEND;TZID=Europe/Madrid:20260430T184500
DESCRIPTION:En este nuevo curso se internarán en el territorio de la encua
 dernación\, el collage\, el carvado\, figuras de papel en 3D\, y otras ma
 terias que los participantes irán descubriendo. 
SUMMARY:Clases de creatividad infantil 2025-2026
END:VEVENT
BEGIN:VEVENT
DTSTAMP:20260420T153850Z
UID:event-18193-2026-05-07T17:15:00+02:00-2026-05-07T18:45:00+02:00
DTSTART;TZID=Europe/Madrid:20260507T171500
DTEND;TZID=Europe/Madrid:20260507T184500
DESCRIPTION:En este nuevo curso se internarán en el territorio de la encua
 dernación\, el collage\, el carvado\, figuras de papel en 3D\, y otras ma
 terias que los participantes irán descubriendo. 
SUMMARY:Clases de creatividad infantil 2025-2026
END:VEVENT
BEGIN:VEVENT
DTSTAMP:20260420T153850Z
UID:event-18193-2026-05-14T17:15:00+02:00-2026-05-14T18:45:00+02:00
DTSTART;TZID=Europe/Madrid:20260514T171500
DTEND;TZID=Europe/Madrid:20260514T184500
DESCRIPTION:En este nuevo curso se internarán en el territorio de la encua
 dernación\, el collage\, el carvado\, figuras de papel en 3D\, y otras ma
 terias que los participantes irán descubriendo. 
SUMMARY:Clases de creatividad infantil 2025-2026
END:VEVENT
BEGIN:VEVENT
DTSTAMP:20260420T153850Z
UID:event-18193-2026-05-21T17:15:00+02:00-2026-05-21T18:45:00+02:00
DTSTART;TZID=Europe/Madrid:20260521T171500
DTEND;TZID=Europe/Madrid:20260521T184500
DESCRIPTION:En este nuevo curso se internarán en el territorio de la encua
 dernación\, el collage\, el carvado\, figuras de papel en 3D\, y otras ma
 terias que los participantes irán descubriendo. 
SUMMARY:Clases de creatividad infantil 2025-2026
END:VEVENT
BEGIN:VEVENT
DTSTAMP:20260420T153850Z
UID:event-18193-2026-05-28T17:15:00+02:00-2026-05-28T18:45:00+02:00
DTSTART;TZID=Europe/Madrid:20260528T171500
DTEND;TZID=Europe/Madrid:20260528T184500
DESCRIPTION:En este nuevo curso se internarán en el territorio de la encua
 dernación\, el collage\, el carvado\, figuras de papel en 3D\, y otras ma
 terias que los participantes irán descubriendo. 
SUMMARY:Clases de creatividad infantil 2025-2026
END:VEVENT
BEGIN:VEVENT
DTSTAMP:20260420T153850Z
UID:event-18193-2026-06-04T17:15:00+02:00-2026-06-04T18:45:00+02:00
DTSTART;TZID=Europe/Madrid:20260604T171500
DTEND;TZID=Europe/Madrid:20260604T184500
DESCRIPTION:En este nuevo curso se internarán en el territorio de la encua
 dernación\, el collage\, el carvado\, figuras de papel en 3D\, y otras ma
 terias que los participantes irán descubriendo. 
SUMMARY:Clases de creatividad infantil 2025-2026
END:VEVENT
BEGIN:VEVENT
DTSTAMP:20260420T153850Z
UID:event-18193-2026-06-11T17:15:00+02:00-2026-06-11T18:45:00+02:00
DTSTART;TZID=Europe/Madrid:20260611T171500
DTEND;TZID=Europe/Madrid:20260611T184500
DESCRIPTION:En este nuevo curso se internarán en el territorio de la encua
 dernación\, el collage\, el carvado\, figuras de papel en 3D\, y otras ma
 terias que los participantes irán descubriendo. 
SUMMARY:Clases de creatividad infantil 2025-2026
END:VEVENT
BEGIN:VEVENT
DTSTAMP:20260420T153850Z
UID:event-18193-2026-06-18T17:15:00+02:00-2026-06-18T18:45:00+02:00
DTSTART;TZID=Europe/Madrid:20260618T171500
DTEND;TZID=Europe/Madrid:20260618T184500
DESCRIPTION:En este nuevo curso se internarán en el territorio de la encua
 dernación\, el collage\, el carvado\, figuras de papel en 3D\, y otras ma
 terias que los participantes irán descubriendo. 
SUMMARY:Clases de creatividad infantil 2025-2026
END:VEVENT
BEGIN:VEVENT
DTSTAMP:20260420T153850Z
UID:event-18193-2026-06-25T17:15:00+02:00-2026-06-25T18:45:00+02:00
DTSTART;TZID=Europe/Madrid:20260625T171500
DTEND;TZID=Europe/Madrid:20260625T184500
DESCRIPTION:En este nuevo curso se internarán en el territorio de la encua
 dernación\, el collage\, el carvado\, figuras de papel en 3D\, y otras ma
 terias que los participantes irán descubriendo. 
SUMMARY:Clases de creatividad infantil 2025-2026
END:VEVENT
BEGIN:VEVENT
DTSTAMP:20260420T153850Z
UID:event-18193-2026-07-02T17:15:00+02:00-2026-07-02T18:45:00+02:00
DTSTART;TZID=Europe/Madrid:20260702T171500
DTEND;TZID=Europe/Madrid:20260702T184500
DESCRIPTION:En este nuevo curso se internarán en el territorio de la encua
 dernación\, el collage\, el carvado\, figuras de papel en 3D\, y otras ma
 terias que los participantes irán descubriendo. 
SUMMARY:Clases de creatividad infantil 2025-2026
END:VEVENT
BEGIN:VEVENT
DTSTAMP:20260420T153850Z
UID:event-18193-2026-07-09T17:15:00+02:00-2026-07-09T18:45:00+02:00
DTSTART;TZID=Europe/Madrid:20260709T171500
DTEND;TZID=Europe/Madrid:20260709T184500
DESCRIPTION:En este nuevo curso se internarán en el territorio de la encua
 dernación\, el collage\, el carvado\, figuras de papel en 3D\, y otras ma
 terias que los participantes irán descubriendo. 
SUMMARY:Clases de creatividad infantil 2025-2026
END:VEVENT
BEGIN:VEVENT
DTSTAMP:20260420T153850Z
UID:event-18193-2026-07-16T17:15:00+02:00-2026-07-16T18:45:00+02:00
DTSTART;TZID=Europe/Madrid:20260716T171500
DTEND;TZID=Europe/Madrid:20260716T184500
DESCRIPTION:En este nuevo curso se internarán en el territorio de la encua
 dernación\, el collage\, el carvado\, figuras de papel en 3D\, y otras ma
 terias que los participantes irán descubriendo. 
SUMMARY:Clases de creatividad infantil 2025-2026
END:VEVENT
BEGIN:VEVENT
DTSTAMP:20260420T153850Z
UID:event-18193-2026-07-23T17:15:00+02:00-2026-07-23T18:45:00+02:00
DTSTART;TZID=Europe/Madrid:20260723T171500
DTEND;TZID=Europe/Madrid:20260723T184500
DESCRIPTION:En este nuevo curso se internarán en el territorio de la encua
 dernación\, el collage\, el carvado\, figuras de papel en 3D\, y otras ma
 terias que los participantes irán descubriendo. 
SUMMARY:Clases de creatividad infantil 2025-2026
END:VEVENT
BEGIN:VEVENT
DTSTAMP:20260420T153850Z
UID:event-18193-2026-07-30T17:15:00+02:00-2026-07-30T18:45:00+02:00
DTSTART;TZID=Europe/Madrid:20260730T171500
DTEND;TZID=Europe/Madrid:20260730T184500
DESCRIPTION:En este nuevo curso se internarán en el territorio de la encua
 dernación\, el collage\, el carvado\, figuras de papel en 3D\, y otras ma
 terias que los participantes irán descubriendo. 
SUMMARY:Clases de creatividad infantil 2025-2026
END:VEVENT
END:VCALENDAR
