BEGIN:VCALENDAR
VERSION:2.0
PRODID:icalendar-ruby
CALSCALE:GREGORIAN
METHOD:PUBLISH
BEGIN:VEVENT
DTSTAMP:20260421T191208Z
UID:event-22334-2026-05-02T18:00:00+02:00-2026-05-02T20:00:00+02:00
DTSTART;TZID=Europe/Madrid:20260502T180000
DTEND;TZID=Europe/Madrid:20260502T200000
DESCRIPTION:A través de pequeñas acciones creadas por el Centro Botín en
  colaboración con la Universidad de Yale descubrirás las exposiciones de
 l Centro Botín.
SUMMARY:"Claves"\, acción creativa participativa
END:VEVENT
BEGIN:VEVENT
DTSTAMP:20260421T191208Z
UID:event-22334-2026-05-15T18:00:00+02:00-2026-05-15T20:00:00+02:00
DTSTART;TZID=Europe/Madrid:20260515T180000
DTEND;TZID=Europe/Madrid:20260515T200000
DESCRIPTION:A través de pequeñas acciones creadas por el Centro Botín en
  colaboración con la Universidad de Yale descubrirás las exposiciones de
 l Centro Botín.
SUMMARY:"Claves"\, acción creativa participativa
END:VEVENT
END:VCALENDAR
