BEGIN:VCALENDAR
VERSION:2.0
PRODID:icalendar-ruby
CALSCALE:GREGORIAN
METHOD:PUBLISH
BEGIN:VEVENT
DTSTAMP:20260423T104600Z
UID:event-21573-2026-03-14T12:00:00+01:00-none
DTSTART;TZID=Europe/Madrid:20260314T120000
DESCRIPTION:Rex ha perdido sus lentes y todo le sale al revés. Confunde to
 stadas con pantuflas\, búhos con toallas... ¡Ya ni siquiera reconoce a s
 us amigos! Como no encuentre pronto sus gafas... ¡se va a meter en un bue
 n lío! 
SUMMARY:Club de lectura de 4 a 7 años: "T-Rex"
END:VEVENT
END:VCALENDAR
