BEGIN:VCALENDAR
VERSION:2.0
PRODID:icalendar-ruby
CALSCALE:GREGORIAN
METHOD:PUBLISH
BEGIN:VEVENT
DTSTAMP:20260421T222716Z
UID:event-22307-2026-04-27T12:00:00+02:00-2026-04-27T14:00:00+02:00
DTSTART;TZID=Europe/Madrid:20260427T120000
DTEND;TZID=Europe/Madrid:20260427T140000
DESCRIPTION:En el camino para construir un campus universitario distinto\, 
 más acogedor\, más amable\, más abierto a la naturaleza la UC cree que 
 tanto la creación artística como la acción cultural pueden jugar un pap
 el central.
SUMMARY:Cocrear el campus del futuro. Taller participativo para estudiantes
  I
END:VEVENT
END:VCALENDAR
