BEGIN:VCALENDAR
VERSION:2.0
PRODID:icalendar-ruby
CALSCALE:GREGORIAN
METHOD:PUBLISH
BEGIN:VEVENT
DTSTAMP:20260420T160422Z
UID:event-21771-2026-04-28T11:00:00+02:00-none
DTSTART;TZID=Europe/Madrid:20260428T110000
DESCRIPTION:La campaña “Juega Tus Cartas” consistirá en un conjunto d
 e 13 charlas por los barrios de la ciudad realizando una presentación par
 a los vecinos hablando de sus derechos como consumidores.
SUMMARY:"Como consumidor\, juega tus cartas"\, charla informativa
END:VEVENT
END:VCALENDAR
