BEGIN:VCALENDAR
VERSION:2.0
PRODID:icalendar-ruby
CALSCALE:GREGORIAN
METHOD:PUBLISH
BEGIN:VEVENT
DTSTAMP:20260420T160429Z
UID:event-21131-2026-10-09T19:00:00+02:00-none
DTSTART;TZID=Europe/Madrid:20261009T190000
DESCRIPTION:Tras más de una década sobre los escenarios\, Lázaro arranca
  una carrera en solitario en la que mantiene las señas de identidad de su
  anterior etapa\, con un pop-rock de melodías brillantes y métrica muy c
 uidadas.
SUMMARY:Concierto de Lázaro en Santander Sonoro 2026
END:VEVENT
END:VCALENDAR
