BEGIN:VCALENDAR
VERSION:2.0
PRODID:icalendar-ruby
CALSCALE:GREGORIAN
METHOD:PUBLISH
BEGIN:VEVENT
DTSTAMP:20260423T054614Z
UID:event-21970-2026-04-23T19:00:00+02:00-none
DTSTART;TZID=Europe/Madrid:20260423T190000
DESCRIPTION:Se trata de un ciclo de conciertos protagonizados por estudiant
 es de esta universidad\, sea cual sea su estilo o tendencia musical\, que 
 viene contribuyendo desde hace ya siete años a potenciar la difusión de 
 la música joven.
SUMMARY:Concierto de The Haze en Espacio Música Universidad
END:VEVENT
END:VCALENDAR
