BEGIN:VCALENDAR
VERSION:2.0
PRODID:icalendar-ruby
CALSCALE:GREGORIAN
METHOD:PUBLISH
BEGIN:VEVENT
DTSTAMP:20260421T190443Z
UID:event-22393-2026-05-08T19:00:00+02:00-none
DTSTART;TZID=Europe/Madrid:20260508T190000
DESCRIPTION:Este recital añadirá a la interpretación musical una convers
 ación cercana entre Adriana Snape y Paloma González\, de la Asociación 
 Mujer y Talento\, en la que se abordarán aspectos como el camino hacia la
  profesionalización.
SUMMARY:Concierto-experiencia de la Asociación Mujer y Talento
END:VEVENT
END:VCALENDAR
